Workbook
Name _Hlk529352130: 調査票Ⅰ!#REF!
Name _Hlk529352130: '調査票Ⅱ-1'!$A$6
Name _Hlk529352130: '調査票Ⅱ-2'!$A$6
Name _Hlk529352130: '調査票Ⅱ-3'!#REF!
Name _Hlk529352130: '調査票Ⅲ-1'!$A$6
Name _Hlk529352130: '調査票Ⅲ-2'!$A$6
Name _Hlk529352130: 調査票Ⅳ!#REF!
Name _Hlk531100804: 調査票Ⅰ!#REF!
Name _Hlk531100804: '調査票Ⅱ-1'!#REF!
Name _Hlk531100804: '調査票Ⅱ-2'!#REF!
Name _Hlk531100804: '調査票Ⅱ-3'!#REF!
Name _Hlk531100804: '調査票Ⅲ-1'!#REF!
Name _Hlk531100804: '調査票Ⅲ-2'!#REF!
Name _Hlk531100804: 調査票Ⅳ!$A$88
Name _Hlk531113793: 調査票Ⅰ!#REF!
Name _Hlk531113793: '調査票Ⅱ-1'!#REF!
Name _Hlk531113793: '調査票Ⅱ-2'!#REF!
Name _Hlk531113793: '調査票Ⅱ-3'!#REF!
Name _Hlk531113793: '調査票Ⅲ-1'!#REF!
Name _Hlk531113793: '調査票Ⅲ-2'!#REF!
Name _Hlk531113793: 調査票Ⅳ!$A$69
Name _Hlk531113816: 調査票Ⅰ!#REF!
Name _Hlk531113816: '調査票Ⅱ-1'!#REF!
Name _Hlk531113816: '調査票Ⅱ-2'!#REF!
Name _Hlk531113816: '調査票Ⅱ-3'!#REF!
Name _Hlk531113816: '調査票Ⅲ-1'!#REF!
Name _Hlk531113816: '調査票Ⅲ-2'!#REF!
Name _Hlk531113816: 調査票Ⅳ!$A$69
Name _Hlk531196008: 調査票Ⅰ!#REF!
Name _Hlk531196008: '調査票Ⅱ-1'!#REF!
Name _Hlk531196008: '調査票Ⅱ-2'!#REF!
Name _Hlk531196008: '調査票Ⅱ-3'!#REF!
Name _Hlk531196008: '調査票Ⅲ-1'!#REF!
Name _Hlk531196008: '調査票Ⅲ-2'!#REF!
Name _Hlk531196008: 調査票Ⅳ!#REF!

Sheet 調査票Ⅰ
A1: 回答期限：令和２年12月10日（木） | Z1: 都道府県
A2: 令和２年度介護ロボット導入支援事業の実施状況調査
A4: 【基本情報】
B5: 都道府県名 | L5: 記入担当部署・係
B6: 連絡先 | G6: TEL： | O6: E-mail：
A8: Ⅰ． 地域医療介護総合確保基金による令和２年度「介護ロボット導入支援事業」の実施概況について
A9: 1 | B9: 「介護ロボット導入支援事業」を実施しましたか。 | G9: ① | H9: 令和２年度の実施状況
I10: 1．実施した | O10: 2．実施しなかった | AE10: 実施状況 | AF10: 0
G11: ② | H11: 「2．実施しなかった」を選択した場合、その理由を教えてください。
A13: 2 | B13: 「介護ロボット導入支援事業」を来年度実施する予定はありますか。 | H13: 1．来年度実施を予定している | AE13: 実施の予定はない | AF13: 0
H14: 2．実施の予定はない
A15: 3 | B15: 「ICT導入支援事業」を実施しましたか。 | G15: ① | H15: 令和元年度の実施状況
I16: 1．実施した | O16: 2．実施しなかった | AE16: 実施状況 | AF16: 0
G17: ② | H17: 令和２年度の実施状況
I18: 1．実施した | O18: 2．実施しなかった | AE18: 実施状況 | AF18: 0
H19: 「2．実施しなかった」理由を教えてください。
A21: 4 | B21: 「ICT導入支援事業」を来年度実施する予定はありますか。 | H21: 1．来年度実施を予定している | AE21: 実施の予定はない | AF21: 0
H22: 2．実施の予定はない
A23: 令和２年度「介護ロボット導入支援事業」を実施した都道府県は、以下の５～19もご回答ください。 令和２年度実施していないが、令和元年度に実施していた都道府県はⅡ-1へお進みください。 令和２年度、令和元年度、いずれも実施していない都道府県は、Ⅳへお進みください。
A24: 5 | B24: 令和２年度の事業の実施状況について、教えてください。 | G24: 公募開始時期 | N24: （ | P24: ）月（ | S24: ）日から
G25: 公募終了（予定）時期 | N25: （ | P25: ）月（ | S25: ）日まで
G26: ⇒追加募集を行った、または行う予定の場合はその実施状況についても教えてください。
G27: 追加公募開始（予定）時期 | N27: （ | P27: ）月（ | S27: ）日から
G28: 追加公募終了（予定）時期 | N28: （ | P28: ）月（ | S28: ）日まで
A29: ６ | B29: 令和２年度の補助対象の上限額の設定内容とその理由について教えてください。 ※令和２年度当初予算についてのみ回答してください | G29: 【上限額】国が示している基準（令和２年度当初予算） １機器あたり上限30万円 見守りセンサーの導入に伴う通信環境整備１事業所あたり上限150万円 補助上限台数１事業所あたり利用定員２割まで 事業主負担：対象経費の１／２
H30: 1．上記、国の基準のとおり | AE30: 上限額の基準 | AF30: 0
H31: 2．令和２年度当初予算による基準では実施していない
H32: 3．令和２年度補正予算発出後に基準を設定し実施
H33: 4．独自の基準である | N33: ↓具体的に
G35: 【理由】（あてはまる全てに☑を入れてください）
H36: 1．国の基準を基に実施しているため | R36: 4．その他 | U36: ↓具体的に | AE36: 理由 | AF36: FALSE | AG36: FALSE
H37: 2．予算が限られているため | AF37: FALSE
H38: 3．他の補助事業と同じ基準にしている | AF38: FALSE
A39: 7 | B39: 令和２年度の補助対象の上限額の設定内容とその理由について教えてください。 ※令和２年度補正予算についてのみ回答してください | G39: 【上限額】国が示している基準（令和２年度補正予算） 移乗支援（装着型・非装着型）、入浴支援は、1機器あたり上限100万円、その他は上限30万円 見守りセンサーの導入に伴う通信環境整備１事業所あたり上限750万円 補助上限台数：必要台数（制限の撤廃） 事業主負担：都道府県の裁量により設定（負担率は設定することを条件）
H40: 1．上記、国の基準のとおり | O40: → | P40: 事業者負担率 | T40: （ | W40: ）割 | AF40: 0
H41: 2．令和２年度補正予算による基準では実施していない | AE41: 上限額の基準
H42: 3．独自の基準である | N42: ↓具体的に
G45: 【理由】（あてはまる全てに☑を入れてください）
H46: 1．国の基準を基に実施しているため | R46: 4．その他 | U46: ↓具体的に | AE46: 理由 | AF46: FALSE | AG46: FALSE
H47: 2．予算が限られているため | AF47: FALSE
...

Sheet 調査票Ⅱ-1
A1: Ⅱ．令和元年度 地域医療介護総合確保基金による「介護ロボット導入支援事業」の実績について
A2: 「令和元年度実施していない」都道府県は、回答不要です。Ⅲ-1へお進みください。
A3: 1 | B3: 令和元年度の地域医療介護総合確保基金による「介護ロボット導入支援事業」の実績をご記入ください。 施設・居住系サービスへの導入実績を事業所ごとに、事業所名、所在地（市町村）、サービス種別、支援金額、支援分野※、導入機種名、メーカー名、導入台数を下記の表にご記入ください。
A4: ※ | B4: 支援分野は、①移乗支援、②移動支援、③排泄支援、④見守り、⑤コミュニケーション、⑥入浴支援、⑦介護業務支援のいずれかの番号を記載してください。
A5: 施設・居住系サービス
B6: 事業所名 | C6: 所在地 （市町村） | D6: サービス 種別 | E6: 支援金額 （円） | F6: 支援 分野※ | G6: 導入機種名 | H6: メーカー名 | I6: 導入台数
A8: 1 | J8: 台
A9: =A8+1 -> 2 | J9: 台
A10: =A9+1 -> 3 | J10: 台
A11: =A10+1 -> 4 | J11: 台
A12: =A11+1 -> 5 | J12: 台
A13: =A12+1 -> 6 | J13: 台
A14: =A13+1 -> 7 | J14: 台
A15: =A14+1 -> 8 | J15: 台
A16: =A15+1 -> 9 | J16: 台
A17: =A16+1 -> 10 | J17: 台
A18: =A17+1 -> 11 | J18: 台
A19: =A18+1 -> 12 | J19: 台
A20: =A19+1 -> 13 | J20: 台
... A107: =A106+1 -> 100 | J107: 台

Sheet 調査票Ⅱ-2
A1: Ⅱ．令和元年度 地域医療介護総合確保基金による「介護ロボット導入支援事業」の実績について
A2: 「令和元年度実施していない」都道府県は、回答不要です。Ⅲへお進みください。
A3: ２ | B3: 令和元年度の地域医療介護総合確保基金による「介護ロボット導入支援事業」の実績をご記入ください。 在宅系サービスへの導入実績を事業所ごとに、事業所名、所在地（市町村）、サービス種別、支援金額、支援分野※、導入機種名、メーカー名、導入台数を下記の表にご記入ください。
A4: ※ | B4: 支援分野は、①移乗支援、②移動支援、③排泄支援、④見守り、⑤コミュニケーション、⑥入浴支援、⑦介護業務支援のいずれかの番号を記載してください。
A5: 在宅系サービス
B6: 事業所名 | C6: 所在地 （市町村） | D6: サービス 種別 | E6: 支援金額 （円） | F6: 支援 分野※ | G6: 導入機種名 | H6: メーカー名 | I6: 導入台数
A8: 1 | J8: 台
A9: =A8+1 -> 2 | J9: 台
A10: =A9+1 -> 3 | J10: 台
A11: =A10+1 -> 4 | J11: 台
A12: =A11+1 -> 5 | J12: 台
A13: =A12+1 -> 6 | J13: 台
A14: =A13+1 -> 7 | J14: 台
A15: =A14+1 -> 8 | J15: 台
A16: =A15+1 -> 9 | J16: 台
A17: =A16+1 -> 10 | J17: 台
A18: =A17+1 -> 11 | J18: 台
A19: =A18+1 -> 12 | J19: 台
A20: =A19+1 -> 13 | J20: 台
... A107: =A106+1 -> 100 | J107: 台

Sheet 調査票Ⅱ-3
A1: Ⅱ．令和元年度 地域医療介護総合確保基金による「介護ロボット導入支援事業」の実績について
A2: 「令和元年度実施していない」都道府県は、回答不要です。Ⅲ-1へお進みください。
A3: ３． | B3: 令和元年度の地域医療介護総合確保基金による「介護ロボット導入支援事業」の内容について
A4: ① | B4: 令和元年度の補助対象の上限額の設定内容とその理由について教えてください。 | G4: 【上限額】 国が示している基準（平成30年度から）：1機器につき補助額は30万円を上限とし、60万円未満のものは価格に二分の一を乗じて得た額を上限とする。
H5: 1．上記、国の基準のとおり | AE5: 上限額の基準 | AF5: 0
H6: 2．独自の基準である | N6: →具体的に
G8: 【理由】（あてはまる全てに☑を入れてください）
H9: 1．国の基準を基に実施しているため | R9: 4．その他 | U9: ↓具体的に | AE9: 理由 | AF9: FALSE | AG9: FALSE
H10: 2．予算が限られているため | AF10: FALSE
H11: 3．他の補助事業と同じ基準にしている | AF11: FALSE
A12: ② | B12: 応募があった計画件数を教えてください。 | I12: 合計（ | L12: ）件
G13: 施設・居住系と在宅系の内訳
H14: 施設・居住系の計画件数 | N14: （ | Q14: ）件 | T14: 在宅系の計画件数 | Y14: （ | AB14: ）件
A15: ③ | B15: 令和元年度執行額を教えてください。
G16: （ | K16: ）千円

Sheet 調査票Ⅲ-1
A1: Ⅲ．令和２年度 「介護ロボット導入支援事業」で事業採択された導入計画全体の概要について
A2: 令和２年度「実施していない」都道府県は、回答不要です。Ⅳへお進みください。
A3: １ | B3: 令和２年度(11月末まで）に採択された導入計画についてご記入ください。 施設・居住系サービスへの導入実績を事業所ごとに、予算区分（当初予算または補正予算）、事業所名、所在地（市町村）、サービス種別、支援金額、支援分野、導入機種名、メーカー名、導入台数を下の表にご記入ください。
A4: ※ | B4: 支援分野は、①移乗支援、②移動支援、③排泄支援、④見守り、⑤コミュニケーション、⑥入浴支援、⑦介護業務支援、⑧Wi-Fi工事、⑨インカムのいずれかの番号を記載してください。
A5: 施設・居住系サービス
B6: 予算区分 (当初/補正) | C6: 事業所名 | D6: 所在地 （市町村） | E6: サービス 種別 | F6: 支援金額 （円） | G6: 支援 分野※ | H6: 導入機種名 | I6: メーカー名 | J6: 導入台数
A8: 1 | K8: 台
A9: =A8+1 -> 2 | K9: 台
A10: =A9+1 -> 3 | K10: 台
A11: =A10+1 -> 4 | K11: 台
A12: =A11+1 -> 5 | K12: 台
A13: =A12+1 -> 6 | K13: 台
A14: =A13+1 -> 7 | K14: 台
A15: =A14+1 -> 8 | K15: 台
A16: =A15+1 -> 9 | K16: 台
A17: =A16+1 -> 10 | K17: 台
A18: =A17+1 -> 11 | K18: 台
A19: =A18+1 -> 12 | K19: 台
A20: =A19+1 -> 13 | K20: 台
... A107: =A106+1 -> 100 | K107: 台

Sheet 調査票Ⅲ-2
A1: Ⅲ．令和２年度 「介護ロボット導入支援事業」で事業採択された導入計画全体の概要について
A2: 令和２年度「実施していない」都道府県は、回答不要です。Ⅳへお進みください。
A3: ２ | B3: 令和２年度(11月末まで）に採択された導入計画についてご記入ください。 在宅系サービスへの導入実績を事業所ごとに、予算区分（当初予算または補正予算）、事業所名、所在地（市町村）、サービス種別、支援金額、支援分野、導入機種名、メーカー名、導入台数を下の表にご記入ください。
A4: ※ | B4: 支援分野は、①移乗支援、②移動支援、③排泄支援、④見守り、⑤コミュニケーション、⑥入浴支援、⑦介護業務支援、⑧Wi-Fi工事、⑨インカムのいずれかの番号を記載してください。
A5: 在宅系サービス
B6: 予算区分 (当初/補正) | C6: 事業所名 | D6: 所在地 （市町村） | E6: サービス 種別 | F6: 支援金額 （円） | G6: 支援 分野※ | H6: 導入機種名 | I6: メーカー名 | J6: 導入台数
A8: 1 | K8: 台
A9: =A8+1 -> 2 | K9: 台
A10: =A9+1 -> 3 | K10: 台
A11: =A10+1 -> 4 | K11: 台
A12: =A11+1 -> 5 | K12: 台
A13: =A12+1 -> 6 | K13: 台
A14: =A13+1 -> 7 | K14: 台
A15: =A14+1 -> 8 | K15: 台
A16: =A15+1 -> 9 | K16: 台
A17: =A16+1 -> 10 | K17: 台
A18: =A17+1 -> 11 | K18: 台
A19: =A18+1 -> 12 | K19: 台
A20: =A19+1 -> 13 | K20: 台
... A107: =A106+1 -> 100 | K107: 台

Sheet 調査票Ⅳ
A1: Ⅳ．その他の介護ロボット開発・普及の促進に関する事業について
A2: 1 | B2: 地域医療介護総合確保基金による「介護ロボット導入支援事業」以外に実施している介護ロボット開発・普及の促進に関する事業を実施していますか。
B3: １．実施した | G3: ２．実施していない（令和３年度実施予定がある） | U3: ３．実施していない | AF3: 0
A4: 2 | B4: 介護ロボット開発・普及の促進に関する事業の内容等についてお知らせください。 また、管内の区市町村が独自に実施している事業についても、把握している範囲でお知らせください。
A5: （１）開発に関する支援事業について
C6: 令和元年度 | L6: 令和２年度 | U6: 令和３年度
A7: 開発 支援1 | C7: 事業名 | L7: 事業名 | U7: 事業名
C8: 執行額 | J8: 千円 | L8: 予算額 | S8: 千円 | U8: 予算額 | AB8: 千円
C9: 事業内容 | L9: 事業内容 | U9: 事業内容
C10: 対 象 者 | L10: 対 象 者 | U10: 対 象 者
C11: 対象人数 (対象社数) | L11: 対象人数 (対象社数) | U11: 対象人数 (対象社数)
C12: 実績 | L12: 実績見込み | U12: 予定
A13: 開発 支援2 | C13: 事業名 | L13: 事業名 | U13: 事業名
C14: 執行額 | J14: 千円 | L14: 予算額 | S14: 千円 | U14: 予算額 | AB14: 千円
C15: 事業内容 | L15: 事業内容 | U15: 事業内容
C16: 対 象 者 | L16: 対 象 者 | U16: 対 象 者
C17: 対象人数 (対象社数) | L17: 対象人数 (対象社数) | U17: 対象人数 (対象社数)
C18: 実績 | L18: 実績見込み | U18: 予定
A19: 開発 支援3 | C19: 事業名 | L19: 事業名 | U19: 事業名
C20: 執行額 | J20: 千円 | L20: 予算額 | S20: 千円 | U20: 予算額 | AB20: 千円
C21: 事業内容 | L21: 事業内容 | U21: 事業内容
C22: 対 象 者 | L22: 対 象 者 | U22: 対 象 者
C23: 対象人数 (対象社数) | L23: 対象人数 (対象社数) | U23: 対象人数 (対象社数)
C24: 実績 | L24: 実績見込み | U24: 予定
A25: 開発 支援4 | C25: 事業名 | L25: 事業名 | U25: 事業名
C26: 執行額 | J26: 千円 | L26: 予算額 | S26: 千円 | U26: 予算額 | AB26: 千円
C27: 事業内容 | L27: 事業内容 | U27: 事業内容
C28: 対 象 者 | L28: 対 象 者 | U28: 対 象 者
C29: 対象人数 (対象社数) | L29: 対象人数 (対象社数) | U29: 対象人数 (対象社数)
C30: 実績 | L30: 実績見込み | U30: 予定
A32: （２）導入に関する支援事業について
C33: 令和元年度 | L33: 令和２年度 | U33: 令和３年度
A34: 導入 支援1 | C34: 事業名 | L34: 事業名 | U34: 事業名
C35: 執行額 | J35: 千円 | L35: 予算額 | S35: 千円 | U35: 予算額 | AB35: 千円
C36: 事業内容 | L36: 事業内容 | U36: 事業内容
C37: 対 象 者 | L37: 対 象 者 | U37: 対 象 者
C38: 対象人数 (対象社数) | L38: 対象人数 (対象社数) | U38: 対象人数 (対象社数)
C39: 実績 | L39: 実績見込み | U39: 予定
A40: 導入 支援2 | C40: 事業名 | L40: 事業名 | U40: 事業名
C41: 執行額 | J41: 千円 | L41: 予算額 | S41: 千円 | U41: 予算額 | AB41: 千円
...

Sheet Ⅴ1_1
V1: ①移乗支援
D2: 商品名等記入シート（Ⅴ１_1） | R2: 調査票に戻る | V2: ②移動支援
V3: ③排泄支援
E4: 施設名 | J4: 住所 | O4: 設置者 | R4: 運営者 | V4: ④見守り
B5: ↓列非表示にする | C5: ↓列非表示にする | D5: 1 | E5: =調査票Ⅳ!B73 -> 0 | J5: =調査票Ⅳ!G73 -> 0 | O5: =調査票Ⅳ!L73 -> 0 | R5: =調査票Ⅳ!O73 -> 0 | V5: ⑤コミュニケーション
V6: ⑥入浴支援
B7: どの程度入力があるかわからないので、 | D7: 上記施設に展示されている介護ロボットの商品名、重点分野、展示数を教えてください。 | V7: ⑦介護業務支援
B8: 行ごとコピーすればローデータまとめられるようにしました。 | D8: 重点分野は、①移乗支援、②移動支援、③排泄支援、④見守り、⑤コミュニケーション、⑥入浴支援、⑦介護業務支援、⑧その他のいずれかの番号を記載してください。 | V8: ⑧その他
B10: R1シート：都道府県名 | C10: 施設名 | E10: 商品名 | O10: 重点分野 | R10: 展示数 | V10: ↑列非表示にする
B11: =調査票Ⅰ!$G$5 -> 0 | C11: =$E$5 -> 0 | D11: 1 | T11: 点
B12: =調査票Ⅰ!$G$5 -> 0 | C12: =$E$5 -> 0 | D12: 2 | T12: 点
B13: =調査票Ⅰ!$G$5 -> 0 | C13: =$E$5 -> 0 | D13: 3 | T13: 点
B14: =調査票Ⅰ!$G$5 -> 0 | C14: =$E$5 -> 0 | D14: 4 | T14: 点
B15: =調査票Ⅰ!$G$5 -> 0 | C15: =$E$5 -> 0 | D15: 5 | T15: 点
B16: =調査票Ⅰ!$G$5 -> 0 | C16: =$E$5 -> 0 | D16: 6 | T16: 点
B17: =調査票Ⅰ!$G$5 -> 0 | C17: =$E$5 -> 0 | D17: 7 | T17: 点
B18: =調査票Ⅰ!$G$5 -> 0 | C18: =$E$5 -> 0 | D18: 8 | T18: 点
B19: =調査票Ⅰ!$G$5 -> 0 | C19: =$E$5 -> 0 | D19: 9 | T19: 点
B20: =調査票Ⅰ!$G$5 -> 0 | C20: =$E$5 -> 0 | D20: 10 | T20: 点
B21: =調査票Ⅰ!$G$5 -> 0 | C21: =$E$5 -> 0 | D21: 11 | T21: 点
B22: =調査票Ⅰ!$G$5 -> 0 | C22: =$E$5 -> 0 | D22: 12 | T22: 点
... B30: =調査票Ⅰ!$G$5 -> 0 | C30: =$E$5 -> 0 | D30: 20 | T30: 点
D31: ※行が不足する場合は適宜、追加してください。

Sheet Ⅴ1_2
V1: ①移乗支援
D2: 商品名等記入シート（Ⅴ１_2） | R2: 調査票に戻る | V2: ②移動支援
V3: ③排泄支援
E4: 施設名 | J4: 住所 | O4: 設置者 | R4: 運営者 | V4: ④見守り
B5: ↓列非表示にする | C5: ↓列非表示にする | D5: 1 | E5: =調査票Ⅳ!B75 -> 0 | J5: =調査票Ⅳ!G75 -> 0 | O5: =調査票Ⅳ!L75 -> 0 | R5: =調査票Ⅳ!O75 -> 0 | V5: ⑤コミュニケーション
V6: ⑥入浴支援
B7: どの程度入力があるかわからないので、 | D7: 上記施設に展示されている介護ロボットの商品名、重点分野、展示数を教えてください。 | V7: ⑦介護業務支援
B8: 行ごとコピーすればローデータまとめられるようにしました。 | D8: 重点分野は、①移乗支援、②移動支援、③排泄支援、④見守り、⑤コミュニケーション、⑥入浴支援、⑦介護業務支援、⑧その他のいずれかの番号を記載してください。 | V8: ⑧その他
B10: R1シート：都道府県名 | C10: 施設名 | E10: 商品名 | O10: 重点分野 | R10: 展示数 | V10: ↑列非表示にする
B11: =調査票Ⅰ!$G$5 -> 0 | C11: =$E$5 -> 0 | D11: 1 | T11: 点
B12: =調査票Ⅰ!$G$5 -> 0 | C12: =$E$5 -> 0 | D12: 2 | T12: 点
B13: =調査票Ⅰ!$G$5 -> 0 | C13: =$E$5 -> 0 | D13: 3 | T13: 点
B14: =調査票Ⅰ!$G$5 -> 0 | C14: =$E$5 -> 0 | D14: 4 | T14: 点
B15: =調査票Ⅰ!$G$5 -> 0 | C15: =$E$5 -> 0 | D15: 5 | T15: 点
B16: =調査票Ⅰ!$G$5 -> 0 | C16: =$E$5 -> 0 | D16: 6 | T16: 点
B17: =調査票Ⅰ!$G$5 -> 0 | C17: =$E$5 -> 0 | D17: 7 | T17: 点
B18: =調査票Ⅰ!$G$5 -> 0 | C18: =$E$5 -> 0 | D18: 8 | T18: 点
B19: =調査票Ⅰ!$G$5 -> 0 | C19: =$E$5 -> 0 | D19: 9 | T19: 点
B20: =調査票Ⅰ!$G$5 -> 0 | C20: =$E$5 -> 0 | D20: 10 | T20: 点
B21: =調査票Ⅰ!$G$5 -> 0 | C21: =$E$5 -> 0 | D21: 11 | T21: 点
B22: =調査票Ⅰ!$G$5 -> 0 | C22: =$E$5 -> 0 | D22: 12 | T22: 点
... B30: =調査票Ⅰ!$G$5 -> 0 | C30: =$E$5 -> 0 | D30: 20 | T30: 点
D31: ※行が不足する場合は適宜、追加してください。

Sheet Ⅴ2_1
V1: ①移乗支援
D2: 商品名等記入シート（Ⅴ2_1） | R2: 調査票に戻る | V2: ②移動支援
V3: ③排泄支援
E4: 施設名 | J4: 住所 | O4: 設置者 | R4: 運営者 | V4: ④見守り
B5: ↓列非表示にする | C5: ↓列非表示にする | D5: 1 | E5: =調査票Ⅳ!B79 -> 0 | J5: =調査票Ⅳ!G79 -> 0 | O5: =調査票Ⅳ!L79 -> 0 | R5: =調査票Ⅳ!O79 -> 0 | V5: ⑤コミュニケーション
V6: ⑥入浴支援
B7: どの程度入力があるかわからないので、 | D7: 上記施設に展示されている介護ロボットの商品名、重点分野、展示数を教えてください。 | V7: ⑦介護業務支援
B8: 行ごとコピーすればローデータまとめられるようにしました。 | D8: 重点分野は、①移乗支援、②移動支援、③排泄支援、④見守り、⑤コミュニケーション、⑥入浴支援、⑦介護業務支援、⑧その他のいずれかの番号を記載してください。 | V8: ⑧その他
B10: R1シート：都道府県名 | C10: 施設名 | E10: 商品名 | O10: 重点分野 | R10: 展示数 | V10: ↑列非表示にする
B11: =調査票Ⅰ!$G$5 -> 0 | C11: =$E$5 -> 0 | D11: 1 | T11: 点
B12: =調査票Ⅰ!$G$5 -> 0 | C12: =$E$5 -> 0 | D12: 2 | T12: 点
B13: =調査票Ⅰ!$G$5 -> 0 | C13: =$E$5 -> 0 | D13: 3 | T13: 点
B14: =調査票Ⅰ!$G$5 -> 0 | C14: =$E$5 -> 0 | D14: 4 | T14: 点
B15: =調査票Ⅰ!$G$5 -> 0 | C15: =$E$5 -> 0 | D15: 5 | T15: 点
B16: =調査票Ⅰ!$G$5 -> 0 | C16: =$E$5 -> 0 | D16: 6 | T16: 点
B17: =調査票Ⅰ!$G$5 -> 0 | C17: =$E$5 -> 0 | D17: 7 | T17: 点
B18: =調査票Ⅰ!$G$5 -> 0 | C18: =$E$5 -> 0 | D18: 8 | T18: 点
B19: =調査票Ⅰ!$G$5 -> 0 | C19: =$E$5 -> 0 | D19: 9 | T19: 点
B20: =調査票Ⅰ!$G$5 -> 0 | C20: =$E$5 -> 0 | D20: 10 | T20: 点
B21: =調査票Ⅰ!$G$5 -> 0 | C21: =$E$5 -> 0 | D21: 11 | T21: 点
B22: =調査票Ⅰ!$G$5 -> 0 | C22: =$E$5 -> 0 | D22: 12 | T22: 点
... B30: =調査票Ⅰ!$G$5 -> 0 | C30: =$E$5 -> 0 | D30: 20 | T30: 点
D31: ※行が不足する場合は適宜、追加してください。

Sheet Ⅴ2_2
V1: ①移乗支援
D2: 商品名等記入シート（Ⅴ2_2） | R2: 調査票に戻る | V2: ②移動支援
V3: ③排泄支援
E4: 施設名 | J4: 住所 | O4: 設置者 | R4: 運営者 | V4: ④見守り
B5: ↓列非表示にする | C5: ↓列非表示にする | D5: 1 | E5: =調査票Ⅳ!B81 -> 0 | J5: =調査票Ⅳ!G81 -> 0 | O5: =調査票Ⅳ!L81 -> 0 | R5: =調査票Ⅳ!O81 -> 0 | V5: ⑤コミュニケーション
V6: ⑥入浴支援
B7: どの程度入力があるかわからないので、 | D7: 上記施設に展示されている介護ロボットの商品名、重点分野、展示数を教えてください。 | V7: ⑦介護業務支援
B8: 行ごとコピーすればローデータまとめられるようにしました。 | D8: 重点分野は、①移乗支援、②移動支援、③排泄支援、④見守り、⑤コミュニケーション、⑥入浴支援、⑦介護業務支援、⑧その他のいずれかの番号を記載してください。 | V8: ⑧その他
B10: R1シート：都道府県名 | C10: 施設名 | E10: 商品名 | O10: 重点分野 | R10: 展示数 | V10: ↑列非表示にする
B11: =調査票Ⅰ!$G$5 -> 0 | C11: =$E$5 -> 0 | D11: 1 | T11: 点
B12: =調査票Ⅰ!$G$5 -> 0 | C12: =$E$5 -> 0 | D12: 2 | T12: 点
B13: =調査票Ⅰ!$G$5 -> 0 | C13: =$E$5 -> 0 | D13: 3 | T13: 点
B14: =調査票Ⅰ!$G$5 -> 0 | C14: =$E$5 -> 0 | D14: 4 | T14: 点
B15: =調査票Ⅰ!$G$5 -> 0 | C15: =$E$5 -> 0 | D15: 5 | T15: 点
B16: =調査票Ⅰ!$G$5 -> 0 | C16: =$E$5 -> 0 | D16: 6 | T16: 点
B17: =調査票Ⅰ!$G$5 -> 0 | C17: =$E$5 -> 0 | D17: 7 | T17: 点
B18: =調査票Ⅰ!$G$5 -> 0 | C18: =$E$5 -> 0 | D18: 8 | T18: 点
B19: =調査票Ⅰ!$G$5 -> 0 | C19: =$E$5 -> 0 | D19: 9 | T19: 点
B20: =調査票Ⅰ!$G$5 -> 0 | C20: =$E$5 -> 0 | D20: 10 | T20: 点
B21: =調査票Ⅰ!$G$5 -> 0 | C21: =$E$5 -> 0 | D21: 11 | T21: 点
B22: =調査票Ⅰ!$G$5 -> 0 | C22: =$E$5 -> 0 | D22: 12 | T22: 点
... B30: =調査票Ⅰ!$G$5 -> 0 | C30: =$E$5 -> 0 | D30: 20 | T30: 点
D31: ※行が不足する場合は適宜、追加してください。

Sheet Ⅴ2_3
V1: ①移乗支援
D2: 商品名等記入シート（Ⅴ2_3） | R2: 調査票に戻る | V2: ②移動支援
V3: ③排泄支援
E4: 施設名 | J4: 住所 | O4: 設置者 | R4: 運営者 | V4: ④見守り
B5: ↓列非表示にする | C5: ↓列非表示にする | D5: 1 | E5: =調査票Ⅳ!B83 -> 0 | J5: =調査票Ⅳ!G83 -> 0 | O5: =調査票Ⅳ!L83 -> 0 | R5: =調査票Ⅳ!O83 -> 0 | V5: ⑤コミュニケーション
V6: ⑥入浴支援
B7: どの程度入力があるかわからないので、 | D7: 上記施設に展示されている介護ロボットの商品名、重点分野、展示数を教えてください。 | V7: ⑦介護業務支援
B8: 行ごとコピーすればローデータまとめられるようにしました。 | D8: 重点分野は、①移乗支援、②移動支援、③排泄支援、④見守り、⑤コミュニケーション、⑥入浴支援、⑦介護業務支援、⑧その他のいずれかの番号を記載してください。 | V8: ⑧その他
B10: R1シート：都道府県名 | C10: 施設名 | E10: 商品名 | O10: 重点分野 | R10: 展示数 | V10: ↑列非表示にする
B11: =調査票Ⅰ!$G$5 -> 0 | C11: =$E$5 -> 0 | D11: 1 | T11: 点
B12: =調査票Ⅰ!$G$5 -> 0 | C12: =$E$5 -> 0 | D12: 2 | T12: 点
B13: =調査票Ⅰ!$G$5 -> 0 | C13: =$E$5 -> 0 | D13: 3 | T13: 点
B14: =調査票Ⅰ!$G$5 -> 0 | C14: =$E$5 -> 0 | D14: 4 | T14: 点
B15: =調査票Ⅰ!$G$5 -> 0 | C15: =$E$5 -> 0 | D15: 5 | T15: 点
B16: =調査票Ⅰ!$G$5 -> 0 | C16: =$E$5 -> 0 | D16: 6 | T16: 点
B17: =調査票Ⅰ!$G$5 -> 0 | C17: =$E$5 -> 0 | D17: 7 | T17: 点
B18: =調査票Ⅰ!$G$5 -> 0 | C18: =$E$5 -> 0 | D18: 8 | T18: 点
B19: =調査票Ⅰ!$G$5 -> 0 | C19: =$E$5 -> 0 | D19: 9 | T19: 点
B20: =調査票Ⅰ!$G$5 -> 0 | C20: =$E$5 -> 0 | D20: 10 | T20: 点
B21: =調査票Ⅰ!$G$5 -> 0 | C21: =$E$5 -> 0 | D21: 11 | T21: 点
B22: =調査票Ⅰ!$G$5 -> 0 | C22: =$E$5 -> 0 | D22: 12 | T22: 点
... B30: =調査票Ⅰ!$G$5 -> 0 | C30: =$E$5 -> 0 | D30: 20 | T30: 点
D31: ※行が不足する場合は適宜、追加してください。

Sheet Ⅴ2_4
V1: ①移乗支援
D2: 商品名等記入シート（Ⅴ2_4） | R2: 調査票に戻る | V2: ②移動支援
V3: ③排泄支援
E4: 施設名 | J4: 住所 | O4: 設置者 | R4: 運営者 | V4: ④見守り
B5: ↓列非表示にする | C5: ↓列非表示にする | D5: 1 | E5: =調査票Ⅳ!B85 -> 0 | J5: =調査票Ⅳ!G85 -> 0 | O5: =調査票Ⅳ!L85 -> 0 | R5: =調査票Ⅳ!O85 -> 0 | V5: ⑤コミュニケーション
V6: ⑥入浴支援
B7: どの程度入力があるかわからないので、 | D7: 上記施設に展示されている介護ロボットの商品名、重点分野、展示数を教えてください。 | V7: ⑦介護業務支援
B8: 行ごとコピーすればローデータまとめられるようにしました。 | D8: 重点分野は、①移乗支援、②移動支援、③排泄支援、④見守り、⑤コミュニケーション、⑥入浴支援、⑦介護業務支援、⑧その他のいずれかの番号を記載してください。 | V8: ⑧その他
B10: R1シート：都道府県名 | C10: 施設名 | E10: 商品名 | O10: 重点分野 | R10: 展示数 | V10: ↑列非表示にする
B11: =調査票Ⅰ!$G$5 -> 0 | C11: =$E$5 -> 0 | D11: 1 | T11: 点
B12: =調査票Ⅰ!$G$5 -> 0 | C12: =$E$5 -> 0 | D12: 2 | T12: 点
B13: =調査票Ⅰ!$G$5 -> 0 | C13: =$E$5 -> 0 | D13: 3 | T13: 点
B14: =調査票Ⅰ!$G$5 -> 0 | C14: =$E$5 -> 0 | D14: 4 | T14: 点
B15: =調査票Ⅰ!$G$5 -> 0 | C15: =$E$5 -> 0 | D15: 5 | T15: 点
B16: =調査票Ⅰ!$G$5 -> 0 | C16: =$E$5 -> 0 | D16: 6 | T16: 点
B17: =調査票Ⅰ!$G$5 -> 0 | C17: =$E$5 -> 0 | D17: 7 | T17: 点
B18: =調査票Ⅰ!$G$5 -> 0 | C18: =$E$5 -> 0 | D18: 8 | T18: 点
B19: =調査票Ⅰ!$G$5 -> 0 | C19: =$E$5 -> 0 | D19: 9 | T19: 点
B20: =調査票Ⅰ!$G$5 -> 0 | C20: =$E$5 -> 0 | D20: 10 | T20: 点
B21: =調査票Ⅰ!$G$5 -> 0 | C21: =$E$5 -> 0 | D21: 11 | T21: 点
B22: =調査票Ⅰ!$G$5 -> 0 | C22: =$E$5 -> 0 | D22: 12 | T22: 点
... B30: =調査票Ⅰ!$G$5 -> 0 | C30: =$E$5 -> 0 | D30: 20 | T30: 点
D31: ※行が不足する場合は適宜、追加してください。
