Workbook
Name _Hlk529352130: '調査票Ⅰ-1（R2.当初）'!#REF!
Name _Hlk529352130: '調査票Ⅰ-2（R2.当初）'!$A$6
Name _Hlk529352130: '調査票Ⅰ-3（R2.当初）'!$A$6
Name _Hlk529352130: '調査票Ⅱ-1 (R2.１次補正)'!#REF!
Name _Hlk529352130: '調査票Ⅱ-2（R2.1次補正）'!$A$6
Name _Hlk529352130: '調査票Ⅱ-3（R2.1次補正）'!$A$6
Name _Hlk529352130: '調査票Ⅲ-1 (R2.3次補正)'!#REF!
Name _Hlk529352130: '調査票Ⅲ-2（R2.3次補正）'!$A$6
Name _Hlk529352130: '調査票Ⅲ-3（R2.3次補正）'!$A$6
Name _Hlk529352130: '調査票Ⅳ（令和3年度）'!#REF!
Name _Hlk529352130: '調査票Ⅳ-19（R3）'!$A$6
Name _Hlk529352130: '調査票Ⅳ-20（R3）'!$A$6
Name _Hlk529352130: '調査票Ⅴ～'!#REF!
Name _Hlk531100804: '調査票Ⅰ-1（R2.当初）'!#REF!
Name _Hlk531100804: '調査票Ⅰ-2（R2.当初）'!#REF!
Name _Hlk531100804: '調査票Ⅰ-3（R2.当初）'!#REF!
Name _Hlk531100804: '調査票Ⅱ-1 (R2.１次補正)'!#REF!
Name _Hlk531100804: '調査票Ⅱ-2（R2.1次補正）'!#REF!
Name _Hlk531100804: '調査票Ⅱ-3（R2.1次補正）'!#REF!
Name _Hlk531100804: '調査票Ⅲ-1 (R2.3次補正)'!#REF!
Name _Hlk531100804: '調査票Ⅲ-2（R2.3次補正）'!#REF!
Name _Hlk531100804: '調査票Ⅲ-3（R2.3次補正）'!#REF!
Name _Hlk531100804: '調査票Ⅳ（令和3年度）'!#REF!
Name _Hlk531100804: '調査票Ⅳ-19（R3）'!#REF!
Name _Hlk531100804: '調査票Ⅳ-20（R3）'!#REF!
Name _Hlk531100804: '調査票Ⅴ～'!$A$68
Name _Hlk531113793: '調査票Ⅰ-1（R2.当初）'!#REF!
Name _Hlk531113793: '調査票Ⅰ-2（R2.当初）'!#REF!
Name _Hlk531113793: '調査票Ⅰ-3（R2.当初）'!#REF!
Name _Hlk531113793: '調査票Ⅱ-1 (R2.１次補正)'!#REF!
Name _Hlk531113793: '調査票Ⅱ-2（R2.1次補正）'!#REF!
Name _Hlk531113793: '調査票Ⅱ-3（R2.1次補正）'!#REF!
Name _Hlk531113793: '調査票Ⅲ-1 (R2.3次補正)'!#REF!
Name _Hlk531113793: '調査票Ⅲ-2（R2.3次補正）'!#REF!
Name _Hlk531113793: '調査票Ⅲ-3（R2.3次補正）'!#REF!
Name _Hlk531113793: '調査票Ⅳ（令和3年度）'!#REF!
Name _Hlk531113793: '調査票Ⅳ-19（R3）'!#REF!
Name _Hlk531113793: '調査票Ⅳ-20（R3）'!#REF!
Name _Hlk531113793: '調査票Ⅴ～'!#REF!
Name _Hlk531113816: '調査票Ⅰ-1（R2.当初）'!#REF!
Name _Hlk531113816: '調査票Ⅰ-2（R2.当初）'!#REF!
Name _Hlk531113816: '調査票Ⅰ-3（R2.当初）'!#REF!
Name _Hlk531113816: '調査票Ⅱ-1 (R2.１次補正)'!#REF!
Name _Hlk531113816: '調査票Ⅱ-2（R2.1次補正）'!#REF!
Name _Hlk531113816: '調査票Ⅱ-3（R2.1次補正）'!#REF!
Name _Hlk531113816: '調査票Ⅲ-1 (R2.3次補正)'!#REF!
Name _Hlk531113816: '調査票Ⅲ-2（R2.3次補正）'!#REF!
Name _Hlk531113816: '調査票Ⅲ-3（R2.3次補正）'!#REF!
Name _Hlk531113816: '調査票Ⅳ（令和3年度）'!#REF!
Name _Hlk531113816: '調査票Ⅳ-19（R3）'!#REF!
Name _Hlk531113816: '調査票Ⅳ-20（R3）'!#REF!
Name _Hlk531113816: '調査票Ⅴ～'!#REF!
Name _Hlk531196008: '調査票Ⅰ-1（R2.当初）'!#REF!
Name _Hlk531196008: '調査票Ⅰ-2（R2.当初）'!#REF!
Name _Hlk531196008: '調査票Ⅰ-3（R2.当初）'!#REF!
Name _Hlk531196008: '調査票Ⅱ-1 (R2.１次補正)'!#REF!
Name _Hlk531196008: '調査票Ⅱ-2（R2.1次補正）'!#REF!
Name _Hlk531196008: '調査票Ⅱ-3（R2.1次補正）'!#REF!
Name _Hlk531196008: '調査票Ⅲ-1 (R2.3次補正)'!#REF!
Name _Hlk531196008: '調査票Ⅲ-2（R2.3次補正）'!#REF!

Sheet 調査票Ⅰ-1（R2.当初）
A1: 回答期限：令和３年12月17日（金）
A2: 介護ロボット導入支援事業の実施状況調査
A4: 【基本情報】
B5: 都道府県名 | L5: 記入担当部署・係
B6: 連絡先 | G6: TEL： | O6: E-mail：
A8: Ⅰ．令和２年度 地域医療介護総合確保基金による「介護ロボット導入支援事業」の実績について（当初予算）
A10: １． | B10: 令和２年度の地域医療介護総合確保基金による「介護ロボット導入支援事業」の実績について、 当初予算での実施状況および実績を以下にご回答ください。
A11: (1) | B11: 当初予算での応募を実施したか | I11: 1．実施した | O11: 2．実施しなかった
A13: 「２．実施しなかった」を選択した場合、以下は回答不要です。Ⅱへお進みください
A14: (2) | B14: 補助対象の上限額の設定内容とその理由について教えてください。 ※必ず上限額と補助率の両方をご回答ください | G14: 【上限額】国の実施要綱 １機器あたり上限30万円 見守りセンサーの導入に伴う通信環境整備：１事業所あたり上限150万円 補助上限台数：１事業所あたり利用定員２割まで 補助率：対象経費の１／２
G15: １機器あたり | N15: 上限30万円 | T15: 左記以外 | W15: → | X15: （ | AA15: 万円 | AC15: ）
G16: 上限額及び補助率 | N16: １／２ | R16: 左記以外 | U16: → | V16: （ | Y16: 割 | Z16: ）
G17: 見守りセンサーの導入に伴う通信環境整備 | N17: 上限150万円 | T17: 左記以外 | W17: → | X17: （ | AA17: 万円 | AC17: ）
G18: 上限額及び補助率 | N18: １／２ | R18: 左記以外 | U18: → | V18: （ | Y18: 割 | Z18: ）
G19: 補助上限台数 | N19: １事業所あたり利用定員２割まで
M20: 上記以外の制限を設けている場合は以下の欄へ具体的に記入ください
G23: 独自の基準 | M23: 上記以外に独自の基準を設けている場合は以下の欄へ具体的に記入ください
G26: 【理由】（あてはまる全てに☑を入れてください）
H27: 1．国の実施要綱を基に実施しているため | S27: 4．その他 | V27: ↓具体的に | AG27: FALSE
H28: 2．予算が限られているため
H29: 3．他の補助事業と同じ基準にしている
A30: (3) | B30: 採択した計画件数をそれぞれ教えてください。 | G30: 注）件数のカウント方法について 原則、１事業所が同時に計画するものについては、導入機器の数・種類に関わらず１件としてカウントしてください。ただし、以下のような場合は複数件とします。 ①１事業所が、時期をずらして異なる機器の申請を行っている場合 ②１事業所が、機器導入と通信環境整備を分けて計画している場合
H32: 施設・居住系の計画件数 | N32: （ | Q32: ）件 | T32: 在宅系の計画件数 | Y32: （ | AB32: ）件
H33: ※Ⅰ-2の計画件数と同じになるようにしてください | T33: ※Ⅰ-3の計画件数と同じになるようにしてください
A34: (4) | B34: 令和２年度当初予算執行額を教えてください。
G35: （ | K35: ）千円 | N35: ※左記には国からの交付分と都道府県負担分を合算した数値を記入ください

Sheet 調査票Ⅰ-2（R2.当初）
A1: Ⅰ．令和２年度 地域医療介護総合確保基金による「介護ロボット導入支援事業」の実績について（当初予算）
A3: ２ | B3: 令和２年度の地域医療介護総合確保基金による「介護ロボット導入支援事業」の実績（採択計画件数）をご記入ください。 施設・居住系サービスへの導入実績を計画ごとに、事業所名、所在地（市町村）、サービス種別、補助額、補助率、支援分野※、導入機種名、メーカー名、導入台数を下記の表にご記入ください。
B4: ※支援分野は、①移乗支援、②移動支援、③排泄支援、④見守り、⑤コミュニケーション、⑥入浴支援、⑦介護業務支援、⑧Wi-Fi工事、⑨インカム（親機の件数）、⑩介護記録とのシステム連動 のいずれかの番号を記載してください。 ※１計画で複数機器導入する計画については、全ての機器について記載して下さい。（計画番号は同一の番号となるよう注意して下さい） また、計画数の合計(最下行の計画番号)は、調査票Ⅰ－１設問（３）における採択件数(施設・居住系サービス)と同じになるようにして下さい。
A5: 施設・居住系サービス
A6: 計画番号 | B6: 事業所名 | C6: 所在地 （市町村） | D6: サービス 種別 | E6: その他の場合 | F6: 補助額 （円、国・都道府県の合計） | G6: 補助率 （〇／〇） | H6: 支援 分野※ | I6: 導入機種名 | J6: メーカー名 | K6: 導入台数
E7: 種別名
A8: 0 | B8: サンプルホーム | C8: A市 | D8: 介護老人保健施設 | F8: 150000 | G8: 1/2 | H8: ④ | I8: 見守りセンサー | J8: B社 | K8: 5 | L8: 台 | M8: ←記入例 | P8: 予算 | R8: サービス種別
A9: 0 | B9: サンプルホーム | C9: A市 | D9: 介護老人保健施設 | F9: 1000000 | G9: 1/2 | H9: ⑧ | I9: サンプルWi－Fi | J9: C社 | K9: 1 | L9: 台 | P9: 当初 | R9: 指定介護老人福祉施設（特養）
L10: 台 | P10: 1次補正 | R10: 介護老人保健施設
L11: 台 | P11: 3次補正 | R11: 介護療養型医療施設
L12: 台 | R12: 介護医療院
L13: 台 | R13: 特定施設入居者生活介護
L14: 台 | R14: 認知症対応型共同生活介護
L15: 台 | R15: 地域密着型介護老人福祉施設
L16: 台 | R16: その他
L17: 台
L18: 台
L19: 台
L20: 台
L21: 台
L22: 台
L23: 台
L24: 台
L25: 台
L26: 台
L27: 台
L28: 台
... L107: 台

Sheet 調査票Ⅰ-3（R2.当初）
A1: Ⅰ．令和２年度 地域医療介護総合確保基金による「介護ロボット導入支援事業」の実績について（当初予算）
A3: ３ | B3: 令和２年度の地域医療介護総合確保基金による「介護ロボット導入支援事業」の実績（採択計画件数）をご記入ください。 在宅系サービスへの導入実績を計画ごとに、事業所名、所在地（市町村）、サービス種別、補助額、補助率、支援分野※、導入機種名、メーカー名、導入台数を下記の表にご記入ください。
B4: ※支援分野は、①移乗支援、②移動支援、③排泄支援、④見守り、⑤コミュニケーション、⑥入浴支援、⑦介護業務支援、⑧Wi-Fi工事、⑨インカム（親機の件数）、⑩介護記録とのシステム連動 のいずれかの番号を記載してください。 ※１計画で複数機器導入する計画については、全ての機器について記載して下さい。（計画番号は同一の番号となるよう注意して下さい） また、計画数の合計(最下行の計画番号)は、調査票Ⅰ－１設問（３）における採択件数(在宅系サービス)と同じになるようにして下さい。
A5: 在宅系サービス
A6: 計画番号 | B6: 事業所名 | C6: 所在地 （市町村） | D6: サービス 種別 | E6: その他の場合 | F6: 補助額 （円、国・都道府県の合計） | G6: 補助率 （〇／〇） | H6: 支援 分野※ | I6: 導入機種名 | J6: メーカー名 | K6: 導入台数
E7: 種別名
A8: 0 | B8: サンプルステーション | C8: A市 | D8: 訪問介護 | F8: 200000 | G8: 1/2 | H8: ① | I8: リフト | J8: B社 | K8: 1 | L8: 台 | M8: ←記入例 | Q8: 予算 | S8: サービス種別
A9: 0 | B9: サンプルステーション | C9: A市 | D9: 訪問介護 | F9: 150000 | G9: 1/2 | H9: ⑦ | I9: ビジネスソフト | J9: C社 | K9: 1 | L9: 台 | Q9: 当初 | S9: 訪問介護
L10: 台 | P10: 1次補正 | R10: 訪問入浴介護
L11: 台 | P11: 3次補正 | R11: 訪問看護
L12: 台 | R12: 訪問リハビリテーション
L13: 台 | R13: 通所介護
L14: 台 | R14: 通所リハビリテーション
L15: 台 | R15: 短期入所生活介護
L16: 台 | R16: 短期入所療養介護
L17: 台 | R17: 定期巡回・随時対応型訪問介護看護
L18: 台 | R18: 夜間対応型訪問介護
L19: 台 | R19: 地域密着型通所介護
L20: 台 | R20: 認知症対応型通所介護
L21: 台 | R21: 小規模多機能型居宅介護
L22: 台 | R22: 複合型サービス（看護小規模多機能型居宅介護）
L23: 台 | R23: その他
L24: 台
L25: 台
L26: 台
L27: 台
L28: 台
L29: 台
L30: 台
L31: 台
L32: 台
L33: 台
L34: 台
L35: 台
... L107: 台

Sheet 調査票Ⅱ-1 (R2.１次補正)
A1: Ⅱ．令和２年度 地域医療介護総合確保基金による「介護ロボット導入支援事業」の実績について（1次補正予算）
A3: ３． | B3: 令和２年度の地域医療介護総合確保基金による「介護ロボット導入支援事業」の実績について、 当初予算、１次補正予算、３次補正予算のそれぞれの内容を以下にご回答ください。
A4: (1)当初予算について
A5: ① | B5: 当初予算での応募を実施したか | G5: 令和２年度の実施状況
I6: 1．実施した | O6: 2．実施しなかった
A7: ② | B7: 令和２年度の補助対象の上限額の設定内容とその理由について教えてください。 ※令和２年度当初予算についてのみ回答してください ※必ず上限額と補助率の両方をご回答ください | G7: 【上限額】国の実施要綱 １機器あたり上限30万円 見守りセンサーの導入に伴う通信環境整備：１事業所あたり上限150万円 補助上限台数：１事業所あたり利用定員２割まで 補助率：対象経費の１／２
G8: １機器あたり | N8: 上限30万円 | T8: 左記以外 | W8: → | X8: （ | AA8: 万円 | AC8: ）
G9: 上限額及び補助率 | N9: １／２ | R9: 左記以外 | U9: → | V9: （ | Y9: 割 | Z9: ）
G10: 見守りセンサーの導入に伴う通信環境整備 | N10: 上限150万円 | T10: 左記以外 | W10: → | X10: （ | AA10: 万円 | AC10: ）
G11: 上限額及び補助率 | N11: １／２ | R11: 左記以外 | U11: → | V11: （ | Y11: 割 | Z11: ）
G12: 補助上限台数 | N12: １事業所あたり利用定員２割まで
M13: 上記以外の制限を設けている場合は以下の欄へ具体的に記入ください
G16: 独自の基準 | M16: 上記以外に独自の基準を設けている場合は以下の欄へ具体的に記入ください
G19: 【理由】（あてはまる全てに☑を入れてください）
H20: 1．国の実施要綱を基に実施しているため | S20: 4．その他 | V20: ↓具体的に | AG20: FALSE
H21: 2．予算が限られているため
H22: 3．他の補助事業と同じ基準にしている
A23: ③ | B23: 応募があった計画件数をそれぞれ教えてください。 | G23: 件数のカウント方法について 原則として、１事業所が同時に計画するものについては、導入機器の数・種類に関わらず１件としてカウント。ただし、以下のような場合は複数件としてカウントする。 ①１事業所が、時期をずらして異なる機器の申請を行っている場合。 ②１事業所が、機器導入と通信環境整備を分けて計画している場合。
H25: 施設・居住系の計画件数 | N25: （ | Q25: ）件 | T25: 在宅系の計画件数 | Y25: （ | AB25: ）件
A27: ④ | B27: 令和２年度執行額を教えてください。
G28: （ | K28: ）千円 | N28: ※左記には国からの交付分と都道府県負担分を合算した数値を記入ください
A30: １． | B30: 令和２年度の地域医療介護総合確保基金による「介護ロボット導入支援事業」の実績について、 １次補正予算での実施状況および実績を以下にご回答ください。
A31: (1) | B31: １次補正予算での応募を実施したか | I31: 1．実施した | O31: 2．実施しなかった
A33: 「２．実施しなかった」を選択した場合、以下は回答不要です。Ⅲへお進みください
A34: (2) | B34: 補助対象の上限額の設定内容とその理由について教えてください。 ※必ず上限額と補助率の両方をご回答ください | G34: 【上限額】国の実施要綱 移乗支援（装着型・非装着型）、入浴支援は、1機器あたり上限100万円、その他は上限30万円 見守りセンサーの導入に伴う通信環境整備：１事業所あたり上限750万円 補助上限台数：必要台数（制限の撤廃） 補助率：都道府県の裁量により設定（負担率は設定することを条件）
G35: 移乗支援 （装着型・非装着型） 入浴支援 | N35: 上限100万円 | T35: 左記以外 | W35: → | X35: （ | AA35: 万円 | AC35: ）
G36: 上限額及び補助率 | M36: （ | P36: 割 | Q36: ）
G37: 上記以外の機器 | N37: 上限30万円 | T37: 左記以外 | W37: → | X37: （ | AA37: 万円 | AC37: ）
G38: 上限額及び補助率 | M38: （ | P38: 割 | Q38: ）
G39: 見守りセンサーの導入に伴う通信環境整備 | N39: 上限750万円 | T39: 左記以外 | W39: → | X39: （ | AA39: 万円 | AC39: ）
G40: 上限額及び補助率 | M40: （ | P40: 割 | Q40: ）
G41: 補助上限台数 | M41: 制限を設けている場合は以下の欄へ具体的に記入ください
G44: 独自の基準 | M44: 上記以外に独自の基準を設けている場合は以下の欄へ具体的に記入ください
G47: 【理由】（あてはまる全てに☑を入れてください）
H48: 1．国の実施要綱を基に実施しているため | S48: 4．その他 | V48: ↓具体的に | AG48: FALSE
H49: 2．予算が限られているため
H50: 3．他の補助事業と同じ基準にしている
A51: (3) | B51: 採択した計画件数をそれぞれ教えてください。 | G51: 注）件数のカウント方法について 原則、１事業所が同時に計画するものについては、導入機器の数・種類に関わらず１件としてカウントしてください。ただし、以下のような場合は複数件とします。 ①１事業所が、時期をずらして異なる機器の申請を行っている場合 ②１事業所が、機器導入と通信環境整備を分けて計画している場合
H53: 施設・居住系の計画件数 | N53: （ | Q53: ）件 | T53: 在宅系の計画件数 | Y53: （ | AB53: ）件
H54: ※Ⅱ-2の計画件数と同じになるようにしてください | T54: ※Ⅱ-3の計画件数と同じになるようにしてください
...

Sheet 調査票Ⅱ-2（R2.1次補正）
A1: Ⅱ．令和２年度 地域医療介護総合確保基金による「介護ロボット導入支援事業」の実績について（1次補正予算）
A3: ２ | B3: 令和２年度の地域医療介護総合確保基金による「介護ロボット導入支援事業」の実績（採択計画件数）をご記入ください。 施設・居住系サービスへの導入実績を計画ごとに、事業所名、所在地（市町村）、サービス種別、補助額、補助率、支援分野※、導入機種名、メーカー名、導入台数を下記の表にご記入ください。
B4: ※支援分野は、①移乗支援、②移動支援、③排泄支援、④見守り、⑤コミュニケーション、⑥入浴支援、⑦介護業務支援、⑧Wi-Fi工事、⑨インカム（親機の件数）、⑩介護記録とのシステム連動 のいずれかの番号を記載してください。 ※１計画で複数機器導入する計画については、全ての機器について記載して下さい。（計画番号は同一の番号となるよう注意して下さい） また、計画数の合計(最下行の計画番号)は、調査票Ⅱ－１設問（３）における採択件数(施設・居住系サービス)と同じになるようにして下さい。
A5: 施設・居住系サービス
A6: 計画番号 | B6: 事業所名 | C6: 所在地 （市町村） | D6: サービス 種別 | E6: その他の場合 | F6: 補助額 （円、国・都道府県の合計） | G6: 補助率 （〇／〇） | H6: 支援 分野※ | I6: 導入機種名 | J6: メーカー名 | K6: 導入台数
E7: 種別名
A8: 0 | B8: サンプルホーム | C8: A市 | D8: 介護老人保健施設 | F8: 150000 | G8: 1/2 | H8: ④ | I8: 見守りセンサー | J8: B社 | K8: 5 | L8: 台 | M8: ←記入例 | P8: 予算 | R8: サービス種別
A9: 0 | B9: サンプルホーム | C9: A市 | D9: 介護老人保健施設 | F9: 1000000 | G9: 1/2 | H9: ⑧ | I9: サンプルWi－Fi | J9: C社 | K9: 1 | L9: 台 | P9: 当初 | R9: 指定介護老人福祉施設（特養）
L10: 台 | P10: 1次補正 | R10: 介護老人保健施設
L11: 台 | P11: 3次補正 | R11: 介護療養型医療施設
L12: 台 | R12: 介護医療院
L13: 台 | R13: 特定施設入居者生活介護
L14: 台 | R14: 認知症対応型共同生活介護
L15: 台 | R15: 地域密着型介護老人福祉施設
L16: 台 | R16: その他
L17: 台
L18: 台
L19: 台
L20: 台
L21: 台
L22: 台
L23: 台
L24: 台
L25: 台
L26: 台
L27: 台
L28: 台
... L107: 台

Sheet 調査票Ⅱ-3（R2.1次補正）
A1: Ⅱ．令和２年度 地域医療介護総合確保基金による「介護ロボット導入支援事業」の実績について（1次補正予算）
A3: ３ | B3: 令和２年度の地域医療介護総合確保基金による「介護ロボット導入支援事業」の実績（採択計画件数）をご記入ください。 在宅系サービスへの導入実績を計画ごとに、事業所名、所在地（市町村）、サービス種別、補助額、補助率、支援分野※、導入機種名、メーカー名、導入台数を下記の表にご記入ください。
B4: ※支援分野は、①移乗支援、②移動支援、③排泄支援、④見守り、⑤コミュニケーション、⑥入浴支援、⑦介護業務支援、⑧Wi-Fi工事、⑨インカム（親機の件数）、⑩介護記録とのシステム連動 のいずれかの番号を記載してください。 ※１計画で複数機器導入する計画については、全ての機器について記載して下さい。（計画番号は同一の番号となるよう注意して下さい） また、計画数の合計(最下行の計画番号)は、調査票Ⅱ－１設問（３）における採択件数(在宅系サービス)と同じになるようにして下さい。
A5: 在宅系サービス
A6: 計画番号 | B6: 事業所名 | C6: 所在地 （市町村） | D6: サービス 種別 | E6: その他の場合 | F6: 補助額 （円、国・都道府県の合計） | G6: 補助率 （〇／〇） | H6: 支援 分野※ | I6: 導入機種名 | J6: メーカー名 | K6: 導入台数
E7: 種別名
A8: 0 | B8: サンプルステーション | C8: A市 | D8: 訪問介護 | F8: 200000 | G8: 1/2 | H8: ① | I8: リフト | J8: B社 | K8: 1 | L8: 台 | M8: ←記入例 | P8: 予算 | R8: サービス種別
A9: 0 | B9: サンプルステーション | C9: A市 | D9: 訪問介護 | F9: 150000 | G9: 1/2 | H9: ⑦ | I9: ビジネスソフト | J9: C社 | K9: 1 | L9: 台 | P9: 当初 | R9: 訪問介護
L10: 台 | P10: 1次補正 | R10: 訪問入浴介護
L11: 台 | P11: 3次補正 | R11: 訪問看護
L12: 台 | R12: 訪問リハビリテーション
L13: 台 | R13: 通所介護
L14: 台 | R14: 通所リハビリテーション
L15: 台 | R15: 短期入所生活介護
L16: 台 | R16: 短期入所療養介護
L17: 台 | R17: 定期巡回・随時対応型訪問介護看護
L18: 台 | R18: 夜間対応型訪問介護
L19: 台 | R19: 地域密着型通所介護
L20: 台 | R20: 認知症対応型通所介護
L21: 台 | R21: 小規模多機能型居宅介護
L22: 台 | R22: 複合型サービス（看護小規模多機能型居宅介護）
L23: 台 | R23: その他
L24: 台
L25: 台
L26: 台
L27: 台
L28: 台
L29: 台
L30: 台
L31: 台
L32: 台
L33: 台
L34: 台
L35: 台
... L107: 台

Sheet 調査票Ⅲ-1 (R2.3次補正)
A1: Ⅲ．令和２年度 地域医療介護総合確保基金による「介護ロボット導入支援事業」の実績について（3次補正予算）
A3: ３． | B3: 令和２年度の地域医療介護総合確保基金による「介護ロボット導入支援事業」の実績について、 当初予算、１次補正予算、３次補正予算のそれぞれの内容を以下にご回答ください。
A4: (1)当初予算について
A5: ① | B5: 当初予算での応募を実施したか | G5: 令和２年度の実施状況
I6: 1．実施した | O6: 2．実施しなかった
A7: ② | B7: 令和２年度の補助対象の上限額の設定内容とその理由について教えてください。 ※令和２年度当初予算についてのみ回答してください ※必ず上限額と補助率の両方をご回答ください | G7: 【上限額】国の実施要綱 １機器あたり上限30万円 見守りセンサーの導入に伴う通信環境整備：１事業所あたり上限150万円 補助上限台数：１事業所あたり利用定員２割まで 補助率：対象経費の１／２
G8: １機器あたり | N8: 上限30万円 | T8: 左記以外 | W8: → | X8: （ | AA8: 万円 | AC8: ）
G9: 上限額及び補助率 | N9: １／２ | R9: 左記以外 | U9: → | V9: （ | Y9: 割 | Z9: ）
G10: 見守りセンサーの導入に伴う通信環境整備 | N10: 上限150万円 | T10: 左記以外 | W10: → | X10: （ | AA10: 万円 | AC10: ）
G11: 上限額及び補助率 | N11: １／２ | R11: 左記以外 | U11: → | V11: （ | Y11: 割 | Z11: ）
G12: 補助上限台数 | N12: １事業所あたり利用定員２割まで
M13: 上記以外の制限を設けている場合は以下の欄へ具体的に記入ください
G16: 独自の基準 | M16: 上記以外に独自の基準を設けている場合は以下の欄へ具体的に記入ください
G19: 【理由】（あてはまる全てに☑を入れてください）
H20: 1．国の実施要綱を基に実施しているため | S20: 4．その他 | V20: ↓具体的に | AG20: FALSE
H21: 2．予算が限られているため
H22: 3．他の補助事業と同じ基準にしている
A23: ③ | B23: 応募があった計画件数をそれぞれ教えてください。 | G23: 件数のカウント方法について 原則として、１事業所が同時に計画するものについては、導入機器の数・種類に関わらず１件としてカウント。ただし、以下のような場合は複数件としてカウントする。 ①１事業所が、時期をずらして異なる機器の申請を行っている場合。 ②１事業所が、機器導入と通信環境整備を分けて計画している場合。
H25: 施設・居住系の計画件数 | N25: （ | Q25: ）件 | T25: 在宅系の計画件数 | Y25: （ | AB25: ）件
A27: ④ | B27: 令和２年度執行額を教えてください。
G28: （ | K28: ）千円 | N28: ※左記には国からの交付分と都道府県負担分を合算した数値を記入ください
A30: (2)１次補正予算について
A31: ① | B31: １次補正予算での応募を実施したか | G31: 令和２年度の実施状況
I32: 1．実施した | O32: 2．実施しなかった
A33: ② | B33: 令和２年度の補助対象の上限額の設定内容とその理由について教えてください。 ※令和２年度１次補正予算についてのみ回答してください ※必ず上限額と補助率の両方をご回答ください | G33: 【上限額】国の実施要綱 移乗支援（装着型・非装着型）、入浴支援は、1機器あたり上限100万円、その他は上限30万円 見守りセンサーの導入に伴う通信環境整備：１事業所あたり上限750万円 補助上限台数：必要台数（制限の撤廃） 補助率：都道府県の裁量により設定（負担率は設定することを条件）
G34: 移乗支援 （装着型・非装着型） 入浴支援 | N34: 上限100万円 | T34: 左記以外 | W34: → | X34: （ | AA34: 万円 | AC34: ）
G35: 上限額及び補助率 | M35: （ | P35: 割 | Q35: ）
G36: 上記以外の機器 | N36: 上限30万円 | T36: 左記以外 | W36: → | X36: （ | AA36: 万円 | AC36: ）
G37: 上限額及び補助率 | M37: （ | P37: 割 | Q37: ）
G38: 見守りセンサーの導入に伴う通信環境整備 | N38: 上限750万円 | T38: 左記以外 | W38: → | X38: （ | AA38: 万円 | AC38: ）
G39: 上限額及び補助率 | M39: （ | P39: 割 | Q39: ）
G40: 補助上限台数 | M40: 制限を設けている場合は以下の欄へ具体的に記入ください
G43: 独自の基準 | M43: 上記以外に独自の基準を設けている場合は以下の欄へ具体的に記入ください
G46: 【理由】（あてはまる全てに☑を入れてください）
H47: 1．国の実施要綱を基に実施しているため | S47: 4．その他 | V47: ↓具体的に | AG47: FALSE
H48: 2．予算が限られているため
H49: 3．他の補助事業と同じ基準にしている
A50: ③ | B50: 応募があった計画件数をそれぞれ教えてください。 | G50: 件数のカウント方法について 原則として、１事業所が同時に計画するものについては、導入機器の数・種類に関わらず１件としてカウント。ただし、以下のような場合は複数件としてカウントする。 ①１事業所が、時期をずらして異なる機器の申請を行っている場合。 ②１事業所が、機器導入と通信環境整備を分けて計画している場合。
H52: 施設・居住系の計画件数 | N52: （ | Q52: ）件 | T52: 在宅系の計画件数 | Y52: （ | AB52: ）件
A54: ④ | B54: 令和２年度執行額を教えてください。
...

Sheet 調査票Ⅰ～Ⅲローデータ
B1: Ⅰ | Z1: Ⅱ | AT1: Ⅲ
B2: 都道府県 | C2: 担当部署・係 | D2: TEL | E2: MAIL | F2: （１） | G2: （２） | W2: （３） | Y2: （４） | Z2: （１） | AA2: （２） | AQ2: （３） | AS2: （４） | AT2: （１） | AU2: （２）一定の要件 | BI2: （２）その他 | CB2: （３）一定の要件 | CD2: （３）それ以外 | CF2: （４）
G3: 1機器あたり | K3: 見守りセンサー | O3: 補助上限台数 | Q3: 独自の基準 | R3: 理由 | W3: 採択件数 | Y3: 執行額 | AA3: 移乗・入浴 | AD3: 上記以外の機器 | AG3: 見守りセンサー | AJ3: 補助上限台数 | AK3: 独自の基準 | AL3: 理由 | AQ3: 採択件数 | AS3: 執行額 | AU3: 移乗・入浴 | AY3: その他機器 | BC3: 見守りセンサ | BG3: 補助上限台数 | BH3: 独自の基準 | BI3: 移乗・入浴 | BM3: その他機器 | BQ3: 見守りセンサ | BU3: 補助上限台数 | BV3: 独自の基準 | BW3: 1．国の実施要綱を基に実施しているため | BX3: 2．予算が限られているため | BY3: 3．他の補助事業と同じ基準にしている | BZ3: 4.その他 | CA3: 理由（その他） | CB3: 施設・居住（件数） | CC3: 在宅（件数） | CD3: 施設・居住（件数） | CE3: 在宅（件数） | CF3: 執行額
G4: 上限額（選択） | H4: 上限額（金額） | I4: 補助率（選択） | J4: 補助率（割合） | K4: 上限額（選択） | L4: 上限額（金額） | M4: 補助率（選択） | N4: 補助率（割合） | O4: 選択 | P4: 記述 | R4: 1．国の実施要綱を基に実施しているため | S4: 2．予算が限られているため | T4: 3．他の補助事業と同じ基準にしている | U4: 4．その他 | V4: 理由（その他） | W4: 施設・居住系 | X4: 在宅系 | AA4: 上限額（選択） | AB4: 上限額（金額） | AC4: 補助率（割合） | AD4: 上限額（選択） | AE4: 上限額（金額） | AF4: 補助率（割合） | AG4: 上限額（選択） | AH4: 上限額（金額） | AI4: 補助率（割合） | AL4: 1．国の実施要綱を基に実施しているため | AM4: 2．予算が限られているため | AN4: 3．他の補助事業と同じ基準にしている | AO4: 4．その他 | AP4: 理由（その他） | AQ4: 施設・居住系 | AR4: 在宅系 | AU4: 上限額（選択） | AV4: 上限額（金額） | AW4: 補助率（選択） | AX4: 補助率（割合） | AY4: 上限額（選択） | AZ4: 上限額（金額） | BA4: 補助率（選択） | BB4: 補助率（割合） | BC4: 上限額（選択） | BD4: 上限額（金額） | BE4: 補助率（選択） | BF4: 補助率（割合） | BI4: 上限額（選択） | BJ4: 上限額（金額） | BK4: 補助率（選択） | BL4: 補助率（割合） | BM4: 上限額（選択） | BN4: 上限額（金額） | BO4: 補助率（選択） | BP4: 補助率（割合） | BQ4: 上限額（選択） | BR4: 上限額（金額） | BS4: 補助率（選択） | BT4: 補助率（割合）
B5: ='調査票Ⅰ-1（R2.当初）'!$G$5 -> 0 | C5: ='調査票Ⅰ-1（R2.当初）'!$R$5 -> 0 | D5: ='調査票Ⅰ-1（R2.当初）'!$I$6 -> 0 | E5: ='調査票Ⅰ-1（R2.当初）'!$R$6 -> 0 | F5: 0 | G5: 0 | H5: ='調査票Ⅰ-1（R2.当初）'!$Y$15 -> 0 | I5: 0 | J5: ='調査票Ⅰ-1（R2.当初）'!$W$16 -> 0 | K5: 0 | L5: ='調査票Ⅰ-1（R2.当初）'!$Y$17 -> 0 | M5: 0 | N5: ='調査票Ⅰ-1（R2.当初）'!$W$18 -> 0 | O5: 0 | P5: ='調査票Ⅰ-1（R2.当初）'!$M$21 -> 0 | Q5: ='調査票Ⅰ-1（R2.当初）'!$M$24 -> 0 | R5: FALSE | S5: FALSE | T5: FALSE | U5: FALSE | V5: ='調査票Ⅰ-1（R2.当初）'!$R$28 -> 0 | W5: ='調査票Ⅰ-1（R2.当初）'!$O$32 -> 0 | X5: ='調査票Ⅰ-1（R2.当初）'!$Z$32 -> 0 | Y5: ='調査票Ⅰ-1（R2.当初）'!$H$35 -> 0 | Z5: 0 | AA5: 0 | AB5: ='調査票Ⅱ-1 (R2.１次補正)'!$Y$35 -> 0 | AC5: ='調査票Ⅱ-1 (R2.１次補正)'!$N$36 -> 0 | AD5: 0 | AE5: ='調査票Ⅱ-1 (R2.１次補正)'!$Y$37 -> 0 | AF5: ='調査票Ⅱ-1 (R2.１次補正)'!$N$38 -> 0 | AG5: 0 | AH5: ='調査票Ⅱ-1 (R2.１次補正)'!$Y$39 -> 0 | AI5: ='調査票Ⅱ-1 (R2.１次補正)'!$N$40 -> 0 | AJ5: ='調査票Ⅱ-1 (R2.１次補正)'!$M$42 -> 0 | AK5: ='調査票Ⅱ-1 (R2.１次補正)'!$M$45 -> 0 | AL5: FALSE | AM5: FALSE | AN5: FALSE | AO5: FALSE | AP5: ='調査票Ⅱ-1 (R2.１次補正)'!$R$49 -> 0 | AQ5: ='調査票Ⅱ-1 (R2.１次補正)'!$O$53 -> 0 | AR5: ='調査票Ⅱ-1 (R2.１次補正)'!$Z$53 -> 0 | AS5: ='調査票Ⅱ-1 (R2.１次補正)'!$H$56 -> 0 | AT5: 0 | AU5: 0 | AV5: ='調査票Ⅲ-1 (R2.3次補正)'!$Y$63 -> 0 | AW5: 0 | AX5: ='調査票Ⅲ-1 (R2.3次補正)'!$W$64 -> 0 | AY5: 0 | AZ5: ='調査票Ⅲ-1 (R2.3次補正)'!$Y$65 -> 0 | BA5: 0 | BB5: ='調査票Ⅲ-1 (R2.3次補正)'!$W$66 -> 0 | BC5: 0 | BD5: ='調査票Ⅲ-1 (R2.3次補正)'!$Y$67 -> 0 | BE5: 0 | BF5: ='調査票Ⅲ-1 (R2.3次補正)'!$W$68 -> 0 | BG5: ='調査票Ⅲ-1 (R2.3次補正)'!$M$70 -> 0 | BH5: ='調査票Ⅲ-1 (R2.3次補正)'!$M$73 -> 0 | BI5: 0 | BJ5: ='調査票Ⅲ-1 (R2.3次補正)'!$Y$76 -> 0 | BK5: 0 | BL5: ='調査票Ⅲ-1 (R2.3次補正)'!$W$77 -> 0 | BM5: 0 | BN5: ='調査票Ⅲ-1 (R2.3次補正)'!$Y$78 -> 0 | BO5: 0 | BP5: ='調査票Ⅲ-1 (R2.3次補正)'!$W$79 -> 0 | BQ5: 0 | BR5: ='調査票Ⅲ-1 (R2.3次補正)'!$Y$80 -> 0 | BS5: 0 | BT5: ='調査票Ⅲ-1 (R2.3次補正)'!$W$81 -> 0 | BU5: ='調査票Ⅲ-1 (R2.3次補正)'!$M$83 -> 0 | BV5: ='調査票Ⅲ-1 (R2.3次補正)'!$M$86 -> 0 | BW5: FALSE | BX5: FALSE | BY5: FALSE | BZ5: FALSE | CA5: ='調査票Ⅲ-1 (R2.3次補正)'!$R$90 -> 0 | CB5: ='調査票Ⅲ-1 (R2.3次補正)'!$O$94 -> 0 | CC5: ='調査票Ⅲ-1 (R2.3次補正)'!$Z$94 -> 0 | CD5: ='調査票Ⅲ-1 (R2.3次補正)'!$O$97 -> 0 | CE5: ='調査票Ⅲ-1 (R2.3次補正)'!$Z$97 -> 0 | CF5: ='調査票Ⅲ-1 (R2.3次補正)'!$H$99 -> 0

Sheet 調査票Ⅲ-2（R2.3次補正）
A1: Ⅲ．令和２年度 地域医療介護総合確保基金による「介護ロボット導入支援事業」の実績について（3次補正予算）
A3: ２ | B3: 令和２年度の地域医療介護総合確保基金による「介護ロボット導入支援事業」の実績（採択計画件数）をご記入ください。 施設・居住系サービスへの導入実績を計画ごとに、事業所名、所在地（市町村）、サービス種別、補助額、補助率、支援分野※、導入機種名、メーカー名、導入台数を下記の表にご記入ください。
B4: ※支援分野は、①移乗支援、②移動支援、③排泄支援、④見守り、⑤コミュニケーション、⑥入浴支援、⑦介護業務支援、⑧Wi-Fi工事、⑨インカム（親機の件数）、⑩介護記録とのシステム連動 のいずれかの番号を記載してください。 ※１計画で複数機器導入する計画については、全ての機器について記載して下さい。（計画番号は同一の番号となるよう注意して下さい） また、計画数の合計(最下行の計画番号)は、調査票Ⅲ－１設問（３）における採択件数(施設・居住系サービス、一定の要件を満たす事業所とそれ以外の事業所を合算した件数)と同じになるようにして下さい。
A5: 施設・居住系サービス
A6: 計画番号 | B6: 事業所名 | C6: 所在地 （市町村） | D6: サービス 種別 | E6: その他の場合 | F6: 補助額 （円、国・都道府県の合計） | G6: 補助率 （〇／〇） | H6: 支援 分野※ | I6: 導入機種名 | J6: メーカー名 | K6: 導入台数
E7: 種別名
A8: 0 | B8: サンプルホーム | C8: A市 | D8: 介護老人保健施設 | F8: 150000 | G8: 1/2 | H8: ④ | I8: 見守りセンサー | J8: B社 | K8: 5 | L8: 台 | M8: ←記入例 | P8: 予算 | R8: サービス種別
A9: 0 | B9: サンプルホーム | C9: A市 | D9: 介護老人保健施設 | F9: 1000000 | G9: 1/2 | H9: ⑧ | I9: サンプルWi－Fi | J9: C社 | K9: 1 | L9: 台 | P9: 当初 | R9: 指定介護老人福祉施設（特養）
L10: 台 | P10: 1次補正 | R10: 介護老人保健施設
L11: 台 | P11: 3次補正 | R11: 介護療養型医療施設
L12: 台 | R12: 介護医療院
L13: 台 | R13: 特定施設入居者生活介護
L14: 台 | R14: 認知症対応型共同生活介護
L15: 台 | R15: 地域密着型介護老人福祉施設
L16: 台 | R16: その他
L17: 台
L18: 台
L19: 台
L20: 台
L21: 台
L22: 台
L23: 台
L24: 台
L25: 台
L26: 台
L27: 台
L28: 台
... L107: 台

Sheet 調査票Ⅲ-3（R2.3次補正）
A1: Ⅲ．令和２年度 地域医療介護総合確保基金による「介護ロボット導入支援事業」の実績について（3次補正予算）
A3: ３ | B3: 令和２年度の地域医療介護総合確保基金による「介護ロボット導入支援事業」の実績（採択計画件数）をご記入ください。 在宅系サービスへの導入実績を計画ごとに、事業所名、所在地（市町村）、サービス種別、補助額、補助率、支援分野※、導入機種名、メーカー名、導入台数を下記の表にご記入ください。
B4: ※支援分野は、①移乗支援、②移動支援、③排泄支援、④見守り、⑤コミュニケーション、⑥入浴支援、⑦介護業務支援、⑧Wi-Fi工事、⑨インカム（親機の件数）、⑩介護記録とのシステム連動 のいずれかの番号を記載してください。 ※１計画で複数機器導入する計画については、全ての機器について記載して下さい。（計画番号は同一の番号となるよう注意して下さい） また、計画数の合計(最下行の計画番号)は、調査票Ⅲ－１設問（３）における採択件数(在宅系サービス、一定の要件を満たす事業所とそれ以外の事業所を合算した件数)と同じになるようにして下さい。
A5: 在宅系サービス
A6: 計画番号 | B6: 事業所名 | C6: 所在地 （市町村） | D6: サービス 種別 | E6: その他の場合 | F6: 補助額 （円、国・都道府県の合計） | G6: 補助率 （〇／〇） | H6: 支援 分野※ | I6: 導入機種名 | J6: メーカー名 | K6: 導入台数
E7: 種別名
A8: 0 | B8: サンプルステーション | C8: A市 | D8: 訪問介護 | F8: 200000 | G8: 1/2 | H8: ① | I8: リフト | J8: B社 | K8: 1 | L8: 台 | M8: ←記入例 | P8: 予算 | R8: サービス種別
A9: 0 | B9: サンプルステーション | C9: A市 | D9: 訪問介護 | F9: 150000 | G9: 1/2 | H9: ⑦ | I9: ビジネスソフト | J9: C社 | K9: 1 | L9: 台 | P9: 当初 | R9: 訪問介護
L10: 台 | P10: 1次補正 | R10: 訪問入浴介護
L11: 台 | P11: 3次補正 | R11: 訪問看護
L12: 台 | R12: 訪問リハビリテーション
L13: 台 | R13: 通所介護
L14: 台 | R14: 通所リハビリテーション
L15: 台 | R15: 短期入所生活介護
L16: 台 | R16: 短期入所療養介護
L17: 台 | R17: 定期巡回・随時対応型訪問介護看護
L18: 台 | R18: 夜間対応型訪問介護
L19: 台 | R19: 地域密着型通所介護
L20: 台 | R20: 認知症対応型通所介護
L21: 台 | R21: 小規模多機能型居宅介護
L22: 台 | R22: 複合型サービス（看護小規模多機能型居宅介護）
L23: 台 | R23: その他
L24: 台
L25: 台
L26: 台
L27: 台
L28: 台
L29: 台
L30: 台
L31: 台
L32: 台
L33: 台
L34: 台
L35: 台
... L107: 台

Sheet 調査票Ⅳ（令和3年度）
A1: Ⅳ． 令和３年度 地域医療介護総合確保基金による「介護ロボット導入支援事業」の実施概況について
A2: 1 | B2: 「介護ロボット導入支援事業」を実施しましたか。 | G2: ① | H2: 令和３年度の実施状況
I3: 1．実施した | O3: 2．実施しなかった
G4: ② | H4: 「2．実施しなかった」を選択した場合、その理由を教えてください。
G5: 理由
A6: 2 | B6: 「介護ロボット導入支援事業」を来年度実施する予定はありますか。 | H6: 1．来年度実施を予定している
H7: 2．実施の予定はない
A8: 3 | B8: 「ICT導入支援事業」を実施しましたか。 | G8: ① | H8: 令和３年度の実施状況
I9: 1．実施した | O9: 2．実施しなかった
G10: ② | H10: 「2．実施しなかった」を選択した場合、その理由を教えてください。
G11: 理由
A12: 4 | B12: 上記3で「１．実施した」と回答した場合、右記の実績について教えてください。 | G12: 介護施設等の大規模修繕の際にあわせて行うロボット・センサー・ICTの 導入支援 （１定員あたり42万円：特養、老健、認知症GH、介護付きホームの例） | Y12: 件 | AC12: 円
A13: 5 | B13: 「ICT導入支援事業」を来年度実施する予定はありますか。 | H13: 1．来年度実施を予定している
H14: 2．実施の予定はない
A15: １①で「２．実施しなかった」と回答した場合は、Ⅴへお進みください。
A16: 6 | B16: 令和３年度の事業の実施状況について、教えてください。 | G16: 公募開始時期 | N16: （ | P16: ）月（ | S16: ）日から
G17: 公募終了（予定）時期 | N17: （ | P17: ）月（ | S17: ）日まで
G18: ⇒追加募集を行った、または行う予定の場合はその実施状況についても教えてください。
G19: 追加公募開始（予定）時期 | N19: （ | P19: ）月（ | S19: ）日から
G20: 追加公募終了（予定）時期 | N20: （ | P20: ）月（ | S20: ）日まで
A21: 7 | B21: 令和３年度の補助対象それぞれの上限額や補助率などの設定内容とその理由について教えてください。 ※必ず上限額と補助率の両方をご回答ください | G21: 【上限額】国の実施要綱 移乗支援（装着型・非装着型）、入浴支援は、1機器あたり上限100万円、その他は上限30万円 見守りセンサーの導入に伴う通信環境整備：１事業所あたり上限750万円 補助上限台数：必要台数（制限の撤廃） 補助率：一定の要件※を満たす事業所は、３／４を下限に都道府県の裁量により設定。 それ以外の事業所は１／２を下限に都道府県の裁量により設定 ※導入計画書において目標とする人員配置を明確にした上で、見守りセンサーやインカム、介護記録ソフト等の複数の機器を 導入し、職員の負担軽減等を図りつつ、人員体制を効率化させる場合
G22: 一定の要件を満たす事業所
G23: 移乗支援 （装着型・非装着型） 入浴支援 | N23: 上限100万円 | T23: 左記以外 | W23: → | X23: （ | AA23: 万円 | AC23: ）
G24: 上限額及び補助率 | N24: ３／４ | R24: 左記以外 | U24: → | V24: （ | Y24: 割 | Z24: ）
G25: 上記以外の機器 | N25: 上限30万円 | T25: 左記以外 | W25: → | X25: （ | AA25: 万円 | AC25: ）
G26: 上限額及び補助率 | N26: ３／４ | R26: 左記以外 | U26: → | V26: （ | Y26: 割 | Z26: ）
G27: 見守りセンサーの導入に伴う通信環境整備 | N27: 上限750万円 | T27: 左記以外 | W27: → | X27: （ | AA27: 万円 | AC27: ）
G28: 上限額及び補助率 | N28: ３／４ | R28: 左記以外 | U28: → | V28: （ | Y28: 割 | Z28: ）
G29: 補助上限台数 | M29: 制限を設けている場合は以下の欄へ具体的に記入ください
G32: 独自の基準 | M32: 上記以外に独自の基準を設けている場合は以下の欄へ具体的に記入ください
G35: それ以外の事業所
G36: 移乗支援 （装着型・非装着型） 入浴支援 | N36: 上限100万円 | T36: 左記以外 | W36: → | X36: （ | AA36: 万円 | AC36: ）
G37: 上限額及び補助率 | N37: １／２ | R37: 左記以外 | U37: → | V37: （ | Y37: 割 | Z37: ）
G38: 上記以外の機器 | N38: 上限30万円 | T38: 左記以外 | W38: → | X38: （ | AA38: 万円 | AC38: ）
G39: 上限額及び補助率 | N39: １／２ | R39: 左記以外 | U39: → | V39: （ | Y39: 割 | Z39: ）
G40: 見守りセンサーの導入に伴う通信環境整備 | N40: 上限750万円 | T40: 左記以外 | W40: → | X40: （ | AA40: 万円 | AC40: ）
G41: 上限額及び補助率 | N41: １／２ | R41: 左記以外 | U41: → | V41: （ | Y41: 割 | Z41: ）
G42: 補助上限台数 | M42: 制限を設けている場合は以下の欄へ具体的に記入ください
G45: 独自の基準 | M45: 上記以外に独自の基準を設けている場合は以下の欄へ具体的に記入ください
G48: 【理由】（あてはまる全てに☑を入れてください）
...

Sheet 調査票Ⅳローデータ
B1: 問１① | C1: 問１② | D1: 問２ | E1: 問３① | F1: 問３② | G1: 問４ | I1: 問５ | J1: 問６ | R1: 問７－一定の要件 | AF1: 問７－それ以外 | AT1: 問７－理由 | AY1: 問８ | BG1: 問９－一定の要件 | BI1: 問９－それ以外 | BK1: 問１０－一定の要件 | BM1: 問１０－それ以外 | BO1: 問１１ | BQ1: 問１２ | BT1: 問１３ | BV1: 問１４ | BW1: 問１５ | BZ1: 問１６ | CG1: 問１７ | CK1: 問１８
G2: 件数 | H2: 円 | J2: 開始月 | K2: 開始日 | L2: 終了月 | M2: 終了日 | N2: 追加開始月 | O2: 追加開始日 | P2: 追加終了月 | Q2: 追加終了日 | R2: 移乗・入浴 | V2: その他機器 | Z2: 見守りセンサ | AD2: 補助上限台数 | AE2: 独自の基準 | AF2: 移乗・入浴 | AJ2: その他機器 | AN2: 見守りセンサ | AR2: 補助上限台数 | AS2: 独自の基準 | AT2: 1．国の実施要綱を基に実施しているため | AU2: 2．予算が限られているため | AV2: 3．他の補助事業と同じ基準にしている | AW2: 4.その他 | AX2: 理由（その他） | AY2: 限定有無（選択） | AZ2: ①移乗支援 | BA2: ②移動支援 | BB2: ③排泄支援 | BC2: ④見守り・コミュニケーション | BD2: ⑤入浴支援 | BE2: ⑥介護業務支援 | BF2: 理由 | BG2: 施設・居住（件数） | BH2: 在宅（件数） | BI2: 施設・居住（件数） | BJ2: 在宅（件数） | BK2: 施設・居住（件数） | BL2: 在宅（件数） | BM2: 施設・居住（件数） | BN2: 在宅（件数） | BO2: 増減（選択） | BP2: 理由 | BQ2: 応募（選択） | BR2: 対応（選択） | BS2: 対応（その他） | BT2: 理由（選択） | BU2: 理由（その他） | BV2: 金額 | BW2: 支援（選択） | BX2: 予算金額 | BY2: 支援（記述） | BZ2: 1．介護ロボットに関する機器情報 | CA2: 2．介護ロボットの対象範囲 | CB2: 3．介護ロボットの活用事例 | CC2: 4．展示会や研修会の開催情報 | CD2: 5．介護ロボットに関するヒヤリハット情報 | CE2: 6．その他 | CF2: その他（記述） | CG2: 方針（選択） | CH2: 充実（記述） | CI2: 絞る（記述） | CJ2: しない（記述）
R3: 上限額（選択） | S3: 上限額（金額） | T3: 補助率（選択） | U3: 補助率（割合） | V3: 上限額（選択） | W3: 上限額（金額） | X3: 補助率（選択） | Y3: 補助率（割合） | Z3: 上限額（選択） | AA3: 上限額（金額） | AB3: 補助率（選択） | AC3: 補助率（割合） | AF3: 上限額（選択） | AG3: 上限額（金額） | AH3: 補助率（選択） | AI3: 補助率（割合） | AJ3: 上限額（選択） | AK3: 上限額（金額） | AL3: 補助率（選択） | AM3: 補助率（割合） | AN3: 上限額（選択） | AO3: 上限額（金額） | AP3: 補助率（選択） | AQ3: 補助率（割合）
B4: 0 | C4: ='調査票Ⅳ（令和3年度）'!$I$5 -> 0 | D4: 0 | E4: 0 | F4: ='調査票Ⅳ（令和3年度）'!$I$11 -> 0 | G4: ='調査票Ⅳ（令和3年度）'!$W$12 -> 0 | H4: ='調査票Ⅳ（令和3年度）'!$Z$12 -> 0 | I4: 0 | J4: ='調査票Ⅳ（令和3年度）'!$O$16 -> 0 | K4: ='調査票Ⅳ（令和3年度）'!$R$16 -> 0 | L4: ='調査票Ⅳ（令和3年度）'!$O$17 -> 0 | M4: ='調査票Ⅳ（令和3年度）'!$R$17 -> 0 | N4: ='調査票Ⅳ（令和3年度）'!$O$19 -> 0 | O4: ='調査票Ⅳ（令和3年度）'!$R$19 -> 0 | P4: ='調査票Ⅳ（令和3年度）'!$O$20 -> 0 | Q4: ='調査票Ⅳ（令和3年度）'!$R$20 -> 0 | R4: 0 | S4: ='調査票Ⅳ（令和3年度）'!$Y$23 -> 0 | T4: 0 | U4: ='調査票Ⅳ（令和3年度）'!$W$24 -> 0 | V4: 0 | W4: ='調査票Ⅳ（令和3年度）'!$Y$25 -> 0 | X4: 0 | Y4: ='調査票Ⅳ（令和3年度）'!$W$26 -> 0 | Z4: 0 | AA4: ='調査票Ⅳ（令和3年度）'!$Y$27 -> 0 | AB4: 0 | AC4: ='調査票Ⅳ（令和3年度）'!$W$28 -> 0 | AD4: ='調査票Ⅳ（令和3年度）'!$M$30 -> 0 | AE4: ='調査票Ⅳ（令和3年度）'!$M$33 -> 0 | AF4: 0 | AG4: ='調査票Ⅳ（令和3年度）'!$Y$36 -> 0 | AH4: 0 | AI4: ='調査票Ⅳ（令和3年度）'!$W$37 -> 0 | AJ4: 0 | AK4: ='調査票Ⅳ（令和3年度）'!Y38 -> 0 | AL4: 0 | AM4: ='調査票Ⅳ（令和3年度）'!W39 -> 0 | AN4: 0 | AO4: ='調査票Ⅳ（令和3年度）'!Y40 -> 0 | AP4: 0 | AQ4: ='調査票Ⅳ（令和3年度）'!W41 -> 0 | AR4: ='調査票Ⅳ（令和3年度）'!$M$43 -> 0 | AS4: ='調査票Ⅳ（令和3年度）'!$M$46 -> 0 | AT4: FALSE | AU4: FALSE | AV4: FALSE | AW4: FALSE | AX4: ='調査票Ⅳ（令和3年度）'!$R$50 -> 0 | AY4: 0 | AZ4: FALSE | BA4: FALSE | BB4: FALSE | BC4: FALSE | BD4: FALSE | BE4: FALSE | BF4: ='調査票Ⅳ（令和3年度）'!J65 -> 0 | BG4: ='調査票Ⅳ（令和3年度）'!$O$69 -> 0 | BH4: ='調査票Ⅳ（令和3年度）'!$Z$69 -> 0 | BI4: ='調査票Ⅳ（令和3年度）'!$O$71 -> 0 | BJ4: ='調査票Ⅳ（令和3年度）'!$Z$71 -> 0 | BK4: ='調査票Ⅳ（令和3年度）'!$O$73 -> 0 | BL4: ='調査票Ⅳ（令和3年度）'!$Z$73 -> 0 | BM4: ='調査票Ⅳ（令和3年度）'!$O$75 -> 0 | BN4: ='調査票Ⅳ（令和3年度）'!$Z$75 -> 0 | BO4: 0 | BP4: ='調査票Ⅳ（令和3年度）'!$I$79 -> 0 | BQ4: 0 | BR4: 0 | BS4: ='調査票Ⅳ（令和3年度）'!$M$87 -> 0 | BT4: 0 | BU4: ='調査票Ⅳ（令和3年度）'!$I$90 -> 0 | BV4: ='調査票Ⅳ（令和3年度）'!$H$91 -> 0 | BW4: 0 | BX4: ='調査票Ⅳ（令和3年度）'!$Y$92 -> 0 | BY4: ='調査票Ⅳ（令和3年度）'!$G$96 -> 0 | BZ4: FALSE | CA4: FALSE | CB4: FALSE | CC4: FALSE | CD4: FALSE | CE4: FALSE | CF4: ='調査票Ⅳ（令和3年度）'!$R$99 -> 0 | CG4: 0 | CH4: ='調査票Ⅳ（令和3年度）'!$I$104 -> 0 | CI4: ='調査票Ⅳ（令和3年度）'!$I$107 -> 0 | CJ4: ='調査票Ⅳ（令和3年度）'!$I$110 -> 0 | CK4: ='調査票Ⅳ（令和3年度）'!$G$111 -> 0

Sheet 調査票Ⅳ-19（R3）
A1: Ⅳ． 令和３年度 地域医療介護総合確保基金による「介護ロボット導入支援事業」の実施概況について
A3: 19 | B3: 令和３年度(11月末まで）に採択された導入計画についてご記入ください。 施設・居住系サービスへの導入実績を計画ごとに、事業所名、所在地（市町村）、サービス種別、補助額、補助率、支援分野、導入機種名、メーカー名、導入台数を下の表にご記入ください。
B4: ※支援分野は、①移乗支援、②移動支援、③排泄支援、④見守り、⑤コミュニケーション、⑥入浴支援、⑦介護業務支援、⑧Wi-Fi工事、⑨インカム（親機の件数）、⑩介護記録とのシステム連動 のいずれかの番号を記載してください。 ※１計画で複数機器導入する計画については、全ての機器について記載して下さい。（計画番号は同一の番号となるよう注意して下さい） また、計画数の合計(最下行の計画番号)は、調査票Ⅳ設問１０における採択件数(施設・居住系サービス、一定の要件を満たす事業所とそれ以外の事業所を合算した件数)と同じになるようにして下さい。
A5: 施設・居住系サービス
A6: 計画番号 | B6: 事業所名 | C6: 所在地 （市町村） | D6: サービス 種別 | E6: その他の場合 | F6: 補助額 （円、国・都道府県の合計） | G6: 補助率 （〇／〇） | H6: 支援 分野※ | I6: 導入機種名 | J6: メーカー名 | K6: 導入台数
E7: 種別名
A8: 0 | B8: サンプルホーム | C8: A市 | D8: 介護老人保健施設 | F8: 150000 | G8: 1/2 | H8: ④ | I8: 見守りセンサー | J8: B社 | K8: 5 | L8: 台 | M8: ←記入例 | N8: サービス種別
A9: 0 | B9: サンプルホーム | C9: A市 | D9: 介護老人保健施設 | F9: 1000000 | G9: 1/2 | H9: ⑧ | I9: サンプルWi－Fi | J9: C社 | K9: 1 | L9: 台 | N9: 指定介護老人福祉施設（特養）
L10: 台 | N10: 介護老人保健施設
L11: 台 | N11: 介護療養型医療施設
L12: 台 | N12: 介護医療院
L13: 台 | N13: 特定施設入居者生活介護
L14: 台 | N14: 認知症対応型共同生活介護
L15: 台 | N15: 地域密着型介護老人福祉施設
L16: 台 | N16: その他
L17: 台
L18: 台
L19: 台
L20: 台
L21: 台
L22: 台
L23: 台
L24: 台
L25: 台
L26: 台
L27: 台
L28: 台
... L105: 台

Sheet 調査票Ⅳ-20（R3）
A1: Ⅳ． 令和３年度 地域医療介護総合確保基金による「介護ロボット導入支援事業」の実施概況について
A3: 20 | B3: 令和３年度(11月末まで）に採択された導入計画についてご記入ください。 在宅系サービスへの導入実績を計画ごとに、事業所名、所在地（市町村）、サービス種別、補助額、補助率、支援分野、導入機種名、メーカー名、導入台数を下の表にご記入ください。
B4: ※支援分野は、①移乗支援、②移動支援、③排泄支援、④見守り、⑤コミュニケーション、⑥入浴支援、⑦介護業務支援、⑧Wi-Fi工事、⑨インカム（親機の件数）、⑩介護記録とのシステム連動 のいずれかの番号を記載してください。 ※１計画で複数機器導入する計画については、全ての機器について記載して下さい。（計画番号は同一の番号となるよう注意して下さい） また、計画数の合計(最下行の計画番号)は、調査票Ⅳ設問１０における採択件数(在宅系サービス、一定の要件を満たす事業所とそれ以外の事業所を合算した件数)と同じになるようにして下さい。
A5: 在宅系サービス
A6: 計画番号 | B6: 事業所名 | C6: 所在地 （市町村） | D6: サービス 種別 | E6: その他の場合 | F6: 補助額 （円、国・都道府県の合計） | G6: 補助率 （〇／〇） | H6: 支援 分野※ | I6: 導入機種名 | J6: メーカー名 | K6: 導入台数
E7: 種別名
A8: 0 | B8: サンプルステーション | C8: A市 | D8: 訪問介護 | F8: 200000 | G8: 1/2 | H8: ① | I8: リフト | J8: B社 | K8: 1 | L8: 台 | M8: ←記入例 | N8: サービス種別
A9: 0 | B9: サンプルステーション | C9: A市 | D9: 訪問介護 | F9: 150000 | G9: 1/2 | H9: ⑦ | I9: ビジネスソフト | J9: C社 | K9: 1 | L9: 台 | N9: 訪問介護
L10: 台 | N10: 訪問入浴介護
L11: 台 | N11: 訪問看護
L12: 台 | N12: 訪問リハビリテーション
L13: 台 | N13: 通所介護
L14: 台 | N14: 通所リハビリテーション
L15: 台 | N15: 短期入所生活介護
L16: 台 | N16: 短期入所療養介護
L17: 台 | N17: 定期巡回・随時対応型訪問介護看護
L18: 台 | N18: 夜間対応型訪問介護
L19: 台 | N19: 地域密着型通所介護
L20: 台 | N20: 認知症対応型通所介護
L21: 台 | N21: 小規模多機能型居宅介護
... L23: 台 | N23: その他
L24: 台
L25: 台
L26: 台
L27: 台
L28: 台
L29: 台
L30: 台
L31: 台
L32: 台
L33: 台
L34: 台
L35: 台
... L107: 台

Sheet 調査票Ⅴ～
A1: Ⅴ．その他の介護ロボット開発・普及の促進に関する事業について
A2: 1 | B2: 地域医療介護総合確保基金による「介護ロボット導入支援事業」以外に実施している介護ロボット開発・普及の促進に関する事業を実施していますか。
B3: １．実施した | G3: ２．実施していない（令和４年度実施予定がある） | U3: ３．実施していない
A4: 2 | B4: 介護ロボット開発・普及の促進に関する事業の内容等についてお知らせください。 また、管内の区市町村が独自に実施している事業についても、把握している範囲でお知らせください。
A5: （１）開発に関する支援事業について
C6: 令和４年度
A7: 開発 支援1 | C7: 事業名
C8: 予算額 | X8: 千円
C9: 事業内容
C10: 対 象 者
C11: 対象人数 (対象社数)
C12: 予定
A13: 開発 支援２ | C13: 事業名
C14: 予算額 | X14: 千円
C15: 事業内容
C16: 対 象 者
C17: 対象人数 (対象社数)
C18: 予定
A19: 開発 支援３ | C19: 事業名
C20: 予算額 | X20: 千円
C21: 事業内容
C22: 対 象 者
C23: 対象人数 (対象社数)
C24: 予定
A25: 開発 支援４ | C25: 事業名
C26: 予算額 | X26: 千円
C27: 事業内容
C28: 対 象 者
C29: 対象人数 (対象社数)
C30: 予定
A32: （２）導入に関する支援事業について
C33: 令和４年度
A34: 導入 支援1 | C34: 事業名
C35: 予算額 | X35: 千円
C36: 事業内容
C37: 対 象 者
C38: 対象人数 (対象社数)
C39: 予定
A40: 導入 支援２ | C40: 事業名
C41: 予算額 | X41: 千円
...

Sheet 調査票Ⅴ～ローデータ
B1: Ⅴ問１ | C1: Ⅵ問１-1 | D1: Ⅵ問１-2 | E1: Ⅵ問１-3 | F1: Ⅵ問１-4 | G1: Ⅵ問１-5 | H1: Ⅵ問１-6 | I1: Ⅶ問１
B2: 0 | C2: 0 | D2: 0 | E2: 0 | F2: 0 | G2: 0 | H2: 0 | I2: 0
