Workbook
Name _Hlk529352130: '調査票Ⅰ-1（R3実績）'!#REF!
Name _Hlk529352130: '調査票Ⅰ-2（R3実績）'!$A$6
Name _Hlk529352130: '調査票Ⅰ-3（R3実績）'!$A$6
Name _Hlk529352130: '調査票Ⅱ－1（R4）'!#REF!
Name _Hlk529352130: '調査票Ⅱ-２（R4）'!$A$6
Name _Hlk529352130: '調査票Ⅱ-3（R4）'!$A$6
Name _Hlk529352130: 調査票Ⅲ・Ⅳ・Ⅴ!#REF!
Name _Hlk531100804: '調査票Ⅰ-1（R3実績）'!#REF!
Name _Hlk531100804: '調査票Ⅰ-2（R3実績）'!#REF!
Name _Hlk531100804: '調査票Ⅰ-3（R3実績）'!#REF!
Name _Hlk531100804: '調査票Ⅱ－1（R4）'!#REF!
Name _Hlk531100804: '調査票Ⅱ-２（R4）'!#REF!
Name _Hlk531100804: '調査票Ⅱ-3（R4）'!#REF!
Name _Hlk531100804: 調査票Ⅲ・Ⅳ・Ⅴ!$A$68
Name _Hlk531113793: '調査票Ⅰ-1（R3実績）'!#REF!
Name _Hlk531113793: '調査票Ⅰ-2（R3実績）'!#REF!
Name _Hlk531113793: '調査票Ⅰ-3（R3実績）'!#REF!
Name _Hlk531113793: '調査票Ⅱ－1（R4）'!#REF!
Name _Hlk531113793: '調査票Ⅱ-２（R4）'!#REF!
Name _Hlk531113793: '調査票Ⅱ-3（R4）'!#REF!
Name _Hlk531113793: 調査票Ⅲ・Ⅳ・Ⅴ!#REF!
Name _Hlk531113816: '調査票Ⅰ-1（R3実績）'!#REF!
Name _Hlk531113816: '調査票Ⅰ-2（R3実績）'!#REF!
Name _Hlk531113816: '調査票Ⅰ-3（R3実績）'!#REF!
Name _Hlk531113816: '調査票Ⅱ－1（R4）'!#REF!
Name _Hlk531113816: '調査票Ⅱ-２（R4）'!#REF!
Name _Hlk531113816: '調査票Ⅱ-3（R4）'!#REF!
Name _Hlk531113816: 調査票Ⅲ・Ⅳ・Ⅴ!#REF!
Name _Hlk531196008: '調査票Ⅰ-1（R3実績）'!#REF!
Name _Hlk531196008: '調査票Ⅰ-2（R3実績）'!#REF!
Name _Hlk531196008: '調査票Ⅰ-3（R3実績）'!#REF!
Name _Hlk531196008: '調査票Ⅱ－1（R4）'!#REF!
Name _Hlk531196008: '調査票Ⅱ-２（R4）'!#REF!
Name _Hlk531196008: '調査票Ⅱ-3（R4）'!#REF!
Name _Hlk531196008: 調査票Ⅲ・Ⅳ・Ⅴ!#REF!

Sheet 調査票Ⅰ-1（R3実績）
A1: 回答期限：令和4年12月16日（金）
A2: 介護ロボット導入支援事業の実施状況調査
A4: 【基本情報】
B5: 都道府県名 | L5: 記入担当部署・係
B6: 連絡先 | G6: TEL： | O6: E-mail：
A8: Ⅰ．令和３年度 地域医療介護総合確保基金による「介護ロボット導入支援事業」の実績について
A10: １． | B10: 令和３年度の地域医療介護総合確保基金による「介護ロボット導入支援事業」について、 実施状況および実績を以下にご回答ください。※「新型コロナウイルス感染症対応地方創生臨時交付金」などの他財源による実施は除く
A11: (1) | B11: 事業を実施しましたか | I11: 1．実施した | O11: 2．実施しなかった
A13: 「２．実施しなかった」を選択した場合、以下は回答不要です。Ⅱへお進みください
A14: (2) | B14: 補助対象の上限額の設定内容とその理由について教えてください。 ※必ず上限額と補助率の両方をご回答ください | G14: 【上限額】国の実施要綱 移乗支援（装着型・非装着型）、入浴支援は、1機器あたり上限100万円、その他は上限30万円 見守りセンサーの導入に伴う通信環境整備：１事業所あたり上限750万円 補助上限台数：必要台数（制限の撤廃） 補助率：一定の要件※を満たす事業所は、３／４を下限に都道府県の裁量により設定 それ以外の事業所は１／２を下限に都道府県の裁量により設定 ※導入計画書において目標とする人員配置を明確にした上で、見守りセンサーやインカム、介護記録ソフト等の複数の機器を 導入し、職員の負担軽減等を図りつつ、人員体制を効率化させる場合
G15: 一定の要件を満たす事業所
G16: 移乗支援 （装着型・非装着型） 入浴支援 | N16: 上限100万円 | T16: 左記以外 | W16: → | X16: （ | AA16: 万円 | AC16: ）
G17: 上限額及び補助率 | N17: ３／４ | R17: 左記以外 | U17: → | V17: （ | Y17: 割 | Z17: ）
N18: 対象無し（事業の実施対象としていない場合はここへチェック）
G19: 上記以外の機器 | N19: 上限30万円 | T19: 左記以外 | W19: → | X19: （ | AA19: 万円 | AC19: ）
G20: 上限額及び補助率 | N20: ３／４ | R20: 左記以外 | U20: → | V20: （ | Y20: 割 | Z20: ）
N21: 対象無し（事業の実施対象としていない場合はここへチェック）
G22: 見守りセンサーの導入に伴う通信環境整備 | N22: 上限750万円 | T22: 左記以外 | W22: → | X22: （ | AA22: 万円 | AC22: ）
G23: 上限額及び補助率 | N23: ３／４ | R23: 左記以外 | U23: → | V23: （ | Y23: 割 | Z23: ）
N24: 対象無し（事業の実施対象としていない場合はここへチェック）
G25: 補助上限台数 | M25: 制限を設けている場合は以下の欄へ具体的に記入ください
G28: 独自の基準 | M28: 上記以外に独自の基準を設けている場合は以下の欄へ具体的に記入ください
G31: 【上記基準の設定理由】（あてはまる全てに☑を入れてください）
H32: 1．国の実施要綱を基に実施しているため | S32: 4．その他 | V32: ↓具体的に | AG32: FALSE
H33: 2．予算が限られているため
H34: 3．他の補助事業と同じ基準にしている
G35: それ以外の事業所
G36: 移乗支援 （装着型・非装着型） 入浴支援 | N36: 上限100万円 | T36: 左記以外 | W36: → | X36: （ | AA36: 万円 | AC36: ）
G37: 上限額及び補助率 | N37: １／２ | R37: 左記以外 | U37: → | V37: （ | Y37: 割 | Z37: ）
N38: 対象無し（事業の実施対象としていない場合はここへチェック）
G39: 上記以外の機器 | N39: 上限30万円 | T39: 左記以外 | W39: → | X39: （ | AA39: 万円 | AC39: ）
G40: 上限額及び補助率 | N40: １／２ | R40: 左記以外 | U40: → | V40: （ | Y40: 割 | Z40: ）
N41: 対象無し（事業の実施対象としていない場合はここへチェック）
G42: 見守りセンサーの導入に伴う通信環境整備 | N42: 上限750万円 | T42: 左記以外 | W42: → | X42: （ | AA42: 万円 | AC42: ）
G43: 上限額及び補助率 | N43: １／２ | R43: 左記以外 | U43: → | V43: （ | Y43: 割 | Z43: ）
N44: 対象無し（事業の実施対象としていない場合はここへチェック）
G45: 補助上限台数 | M45: 制限を設けている場合は以下の欄へ具体的に記入ください
G48: 独自の基準 | M48: 上記以外に独自の基準を設けている場合は以下の欄へ具体的に記入ください
G51: 【上記基準の設定理由】（あてはまる全てに☑を入れてください）
H52: 1．国の実施要綱を基に実施しているため | S52: 4．その他 | V52: ↓具体的に | AG52: FALSE
H53: 2．予算が限られているため
H54: 3．他の補助事業と同じ基準にしている
A55: (3) | B55: 採択した計画件数（＝執行済分）をそれぞれ教えてください。 | G55: 注）件数のカウント方法について 原則、１事業所が同時に計画したものについては、導入機器の数・種類に関わらず１件としてカウントしてください。ただし、以下のような場合は複数件とします。 ①１事業所が、時期をずらして異なる機器の申請を行っている場合 ②１事業所が、機器導入と通信環境整備を分けて計画している場合 ０件の場合は「０」を入力してください
AE56: 施設・居住系 | AF56: 在宅系
B57: ※なお、施設・居住系、在宅系に含まれるサービス種別は枠外の一覧を参照ください。 | G57: 一定の要件を満たす事業所の計画 | S57: 一定の要件を満たす事業所の計画 | AE57: 指定介護老人福祉施設（特養） | AF57: 訪問入浴介護
H58: 施設・居住系の計画件数 | N58: （ | Q58: ）件 | S58: 在宅系の計画件数 | Y58: （ | AB58: ）件 | AE58: 介護老人保健施設 | AF58: 訪問看護
G59: それ以外の事業所の計画 | S59: それ以外の事業所の計画 | AE59: 介護療養型医療施設 | AF59: 訪問リハビリテーション
H60: 施設・居住系の計画件数 | N60: （ | Q60: ）件 | S60: 在宅系の計画件数 | Y60: （ | AB60: ）件 | AE60: 介護医療院 | AF60: 通所介護
H61: ※Ⅰ-2の計画件数と同じになるようにしてください | T61: ※Ⅰ-3の計画件数と同じになるようにしてください | AE61: 特定施設入居者生活介護 | AF61: 通所リハビリテーション
A62: (4) | B62: 令和３年度予算執行額を教えてください。 | AE62: 認知症対応型共同生活介護 | AF62: 短期入所生活介護
G63: （ | K63: ）千円 | N63: ※左記には国からの交付分と都道府県負担分を合算した数値を記入ください | AE63: 地域密着型介護老人福祉施設 | AF63: 短期入所療養介護
AE64: その他 | AF64: 定期巡回・随時対応型訪問介護看護
AF65: 夜間対応型訪問介護
AF66: 地域密着型通所介護
AF67: 認知症対応型通所介護
AF68: 小規模多機能型居宅介護
AF69: 複合型サービス（看護小規模多機能型居宅介護）
AF70: その他

Sheet 調査票Ⅰローデータ
B1: Ⅰ | F1: 1
B2: 都道府県 | C2: 担当部署・係 | D2: TEL | E2: MAIL | F2: （１） | H2: （２）一定の要件 | AJ2: （２）その他 | BL2: （３）一定の要件 | BN2: （３）それ以外 | BP2: （４）
H3: 移乗・入浴 | O3: 上記以外の機器 | V3: 見守りセンサ | AC3: 補助上限台数 | AD3: 独自の基準 | AE3: 1．国の実施要綱を基に実施しているため | AF3: 2．予算が限られているため | AG3: 3．他の補助事業と同じ基準にしている | AH3: 4.その他 | AI3: 理由（その他） | AJ3: 移乗・入浴 | AQ3: 上記以外の機器 | AX3: 見守りセンサ | BE3: 補助上限台数 | BF3: 独自の基準 | BG3: 1．国の実施要綱を基に実施しているため | BH3: 2．予算が限られているため | BI3: 3．他の補助事業と同じ基準にしている | BJ3: 4.その他 | BK3: 理由（その他） | BL3: 施設・居住（件数） | BM3: 在宅（件数） | BN3: 施設・居住（件数） | BO3: 在宅（件数） | BP3: 執行額
F4: 実施した | G4: 実施していない | H4: 上限100万 | I4: 左記以外 | J4: 上限額（金額） | K4: 補助率３／４ | L4: 左記以外 | M4: 補助率（割合） | N4: 対象なし | O4: 上限30万円 | P4: 左記以外 | Q4: 上限額（金額） | R4: 補助率３／４ | S4: 左記以外 | T4: 補助率（割合） | U4: 対象なし | V4: 上限750万円 | W4: 左記以外 | X4: 上限額（金額） | Y4: 補助率３／４ | Z4: 左記以外 | AA4: 補助率（割合） | AB4: 対象なし | AJ4: 上限100万 | AK4: 左記以外 | AL4: 上限額（金額） | AM4: 補助率１／２ | AN4: 左記以外 | AO4: 補助率（割合） | AP4: 対象なし | AQ4: 上限30万 | AR4: 左記以外 | AS4: 上限額（金額） | AT4: 補助率１／２ | AU4: 左記以外 | AV4: 補助率（割合） | AW4: 対象なし | AX4: 上限750万 | AY4: 左記以外 | AZ4: 上限額（金額） | BA4: 補助率１／２ | BB4: 左記以外 | BC4: 補助率（割合） | BD4: 対象なし
B5: ='調査票Ⅰ-1（R3実績）'!$G$5 -> 0 | C5: ='調査票Ⅰ-1（R3実績）'!$R$5 -> 0 | D5: ='調査票Ⅰ-1（R3実績）'!$I$6 -> 0 | E5: ='調査票Ⅰ-1（R3実績）'!$R$6 -> 0 | F5: FALSE | G5: FALSE | H5: FALSE | I5: FALSE | J5: ='調査票Ⅰ-1（R3実績）'!$Y$16 -> 0 | K5: FALSE | L5: FALSE | M5: ='調査票Ⅰ-1（R3実績）'!$W$17 -> 0 | N5: FALSE | O5: FALSE | P5: FALSE | Q5: ='調査票Ⅰ-1（R3実績）'!$Y$19 -> 0 | R5: FALSE | S5: FALSE | T5: ='調査票Ⅰ-1（R3実績）'!W20 -> 0 | U5: FALSE | V5: FALSE | W5: FALSE | X5: ='調査票Ⅰ-1（R3実績）'!$Y$22 -> 0 | Y5: FALSE | Z5: FALSE | AA5: ='調査票Ⅰ-1（R3実績）'!$W$23 -> 0 | AB5: FALSE | AC5: ='調査票Ⅰ-1（R3実績）'!$M$26 -> 0 | AD5: ='調査票Ⅰ-1（R3実績）'!$M$29 -> 0 | AE5: FALSE | AF5: FALSE | AG5: FALSE | AH5: FALSE | AI5: ='調査票Ⅰ-1（R3実績）'!$R$33 -> 0 | AJ5: FALSE | AK5: FALSE | AL5: ='調査票Ⅰ-1（R3実績）'!$Y$36 -> 0 | AM5: FALSE | AN5: FALSE | AO5: ='調査票Ⅰ-1（R3実績）'!$W$37 -> 0 | AQ5: FALSE | AR5: FALSE | AS5: ='調査票Ⅰ-1（R3実績）'!$Y$39 -> 0 | AT5: FALSE | AU5: FALSE | AV5: ='調査票Ⅰ-1（R3実績）'!$W$40 -> 0 | AX5: FALSE | AY5: FALSE | AZ5: ='調査票Ⅰ-1（R3実績）'!$Y$42 -> 0 | BA5: FALSE | BB5: FALSE | BC5: ='調査票Ⅰ-1（R3実績）'!$W$43 -> 0 | BE5: ='調査票Ⅰ-1（R3実績）'!$M$46 -> 0 | BF5: ='調査票Ⅰ-1（R3実績）'!$M$49 -> 0 | BG5: FALSE | BH5: FALSE | BI5: FALSE | BJ5: FALSE | BK5: ='調査票Ⅰ-1（R3実績）'!$R$53 -> 0 | BL5: ='調査票Ⅰ-1（R3実績）'!$O$58 -> 0 | BM5: ='調査票Ⅰ-1（R3実績）'!$Z$58 -> 0 | BN5: ='調査票Ⅰ-1（R3実績）'!$O$60 -> 0 | BO5: ='調査票Ⅰ-1（R3実績）'!$Z$60 -> 0 | BP5: ='調査票Ⅰ-1（R3実績）'!$H$63 -> 0

Sheet 調査票Ⅰ-2（R3実績）
A1: Ⅰ．令和３年度 地域医療介護総合確保基金による「介護ロボット導入支援事業」の実績について
A3: ２ | C3: 令和３年度の地域医療介護総合確保基金による「介護ロボット導入支援事業」の実績（採択計画件数）をご記入ください。 施設・居住系サービスへの導入実績を計画ごとに、事業所名、所在地（市町村）、サービス種別、補助額、補助率、支援分野※、導入機種名、メーカー名、導入台数を下記の表にご記入ください。
C4: ※支援分野は、①移乗支援、②移動支援、③排泄支援、④見守り、⑤コミュニケーション、⑥入浴支援、⑦介護業務支援、⑧Wi-Fi工事、⑨インカム（親機の件数）、⑩介護記録とのシステム連動 のいずれかの番号を記載してください。 ※１計画で複数機器導入する計画については、全ての機器について記載して下さい。（１計画で複数機器導入する計画については、それぞれの機器を記載する行に同一の計画番号、枝番を振って下さい） また、計画数の合計(最下行の計画番号)は、調査票Ⅰ－１設問（３）における採択件数(施設・居住系サービス)と同じになるようにして下さい。
A5: 施設・居住系サービス
A6: 計画番号 | B6: 枝番 | C6: 事業所名 | D6: 所在地 （市町村） | E6: サービス 種別 | F6: その他の場合 | G6: 補助額 （円、国・都道府県の合計） | H6: 補助率 （〇／〇） | I6: 支援 分野※ | J6: 導入機種名 | K6: メーカー名 | L6: 導入台数
F7: 種別名
A8: 1 | B8: 1 | C8: サンプルホームA | D8: A市 | E8: 介護老人保健施設 | G8: 150000 | H8: 1/2 | I8: ④ | J8: 見守りセンサー | K8: B社 | L8: 5 | M8: 台 | N8: ←記入例 | Q8: 予算 | S8: サービス種別
A9: 1 | B9: 2 | C9: サンプルホームA | D9: A市 | E9: 介護老人保健施設 | G9: 1000000 | H9: 1/2 | I9: ⑧ | J9: サンプルWi－Fi | K9: C社 | L9: 1 | M9: 台 | Q9: 当初 | S9: 指定介護老人福祉施設（特養）
A10: 2 | B10: 1 | C10: サンプルホームB | D10: B市 | E10: 介護老人保健施設 | G10: 1000000 | H10: 1/2 | I10: ⑧ | J10: サンプルWi－Fi | K10: C社 | L10: 1 | M10: 台 | Q10: 1次補正 | S10: 介護老人保健施設
M11: 台 | Q11: 3次補正 | S11: 介護療養型医療施設
M12: 台 | S12: 介護医療院
M13: 台 | S13: 特定施設入居者生活介護
M14: 台 | S14: 認知症対応型共同生活介護
M15: 台 | S15: 地域密着型介護老人福祉施設
M16: 台 | S16: その他
M17: 台
M18: 台
M19: 台
M20: 台
M21: 台
M22: 台
M23: 台
M24: 台
M25: 台
M26: 台
M27: 台
M28: 台
... M195: 台
M196: 台 | S196: 地域密着型介護老人福祉施設
M197: 台 | S197: その他
M198: 台
M199: 台
M200: 台
M201: 台
M202: 台
M203: 台
M204: 台
M205: 台
M206: 台
M207: 台
M208: 台
M209: 台
... M220: 台

Sheet 調査票Ⅰ-3（R3実績）
A1: Ⅰ．令和３年度 地域医療介護総合確保基金による「介護ロボット導入支援事業」の実績について
A3: ３ | C3: 令和３年度の地域医療介護総合確保基金による「介護ロボット導入支援事業」の実績（採択計画件数）をご記入ください。 在宅系サービスへの導入実績を計画ごとに、事業所名、所在地（市町村）、サービス種別、補助額、補助率、支援分野※、導入機種名、メーカー名、導入台数を下記の表にご記入ください。
C4: ※支援分野は、①移乗支援、②移動支援、③排泄支援、④見守り、⑤コミュニケーション、⑥入浴支援、⑦介護業務支援、⑧Wi-Fi工事、⑨インカム（親機の件数）、⑩介護記録とのシステム連動 のいずれかの番号を記載してください。 ※１計画で複数機器導入する計画については、全ての機器について記載して下さい。（１計画で複数機器導入する計画については、それぞれの機器を記載する行に同一の計画番号、枝番を振って下さい） また、計画数の合計(最下行の計画番号)は、調査票Ⅰ－１設問（３）における採択件数(在宅系サービス)と同じになるようにして下さい。
A5: 在宅系サービス
A6: 計画番号 | B6: 枝番 | C6: 事業所名 | D6: 所在地 （市町村） | E6: サービス 種別 | F6: その他の場合 | G6: 補助額 （円、国・都道府県の合計） | H6: 補助率 （〇／〇） | I6: 支援 分野※ | J6: 導入機種名 | K6: メーカー名 | L6: 導入台数
F7: 種別名
A8: 1 | B8: 1 | C8: サンプルステーションA | D8: A市 | E8: 訪問介護 | G8: 200000 | H8: 1/2 | I8: ① | J8: リフト | K8: B社 | L8: 1 | M8: 台 | N8: ←記入例 | S8: サービス種別
A9: 1 | B9: 2 | C9: サンプルステーションA | D9: A市 | E9: 訪問介護 | G9: 150000 | H9: 1/2 | I9: ⑦ | J9: ビジネスソフト | K9: C社 | L9: 1 | M9: 台 | S9: 訪問介護
A10: 2 | B10: 1 | C10: サンプルステーションB | D10: B市 | E10: 訪問介護 | G10: 150000 | H10: 1/2 | I10: ⑦ | J10: ビジネスソフト | K10: C社 | L10: 1 | M10: 台 | S10: 訪問入浴介護
M11: 台 | S11: 訪問看護
M12: 台 | S12: 訪問リハビリテーション
M13: 台 | S13: 通所介護
M14: 台 | S14: 通所リハビリテーション
M15: 台 | S15: 短期入所生活介護
M16: 台 | S16: 短期入所療養介護
M17: 台 | S17: 定期巡回・随時対応型訪問介護看護
M18: 台 | S18: 夜間対応型訪問介護
M19: 台 | S19: 地域密着型通所介護
M20: 台 | S20: 認知症対応型通所介護
M21: 台 | S21: 小規模多機能型居宅介護
M22: 台 | S22: 複合型サービス（看護小規模多機能型居宅介護）
M23: 台 | S23: その他
M24: 台
M25: 台
M26: 台
M27: 台
M28: 台
M29: 台
M30: 台
M31: 台
M32: 台
M33: 台
M34: 台
M35: 台
... M220: 台

Sheet 調査票Ⅱ－1（R4）
A1: Ⅱ． 令和４年度 地域医療介護総合確保基金による「介護ロボット導入支援事業」の実施概況について
A2: 1 | B2: 「介護ロボット導入支援事業」を実施しましたか。 ※地方創生臨時交付金などの他財源によるものは含みません | G2: ① | H2: 令和４年度の実施状況（「新型コロナウイルス感染症対応地方創生臨時交付金」などの他財源による実施は除く）
I3: 1．実施した | O3: 2．実施しなかった
G4: ② | H4: 「2．実施しなかった」を選択した場合、その理由を教えてください。
G5: 理由
A6: 2 | B6: 「介護ロボット導入支援事業」を来年度実施する予定はありますか。 | H6: 1．来年度実施を予定している
H7: 2．実施の予定はない
A8: 3 | B8: 「ICT導入支援事業」を実施しましたか。 ※地方創生臨時交付金などの他財源による実施は除く | G8: ① | H8: 令和４年度の実施状況
I9: 1．実施した | O9: 2．実施しなかった
G10: ② | H10: 「2．実施しなかった」を選択した場合、その理由を教えてください。
G11: 理由
A12: ４ | B12: 「ICT導入支援事業」を来年度実施する予定はありますか。 | H12: 1．来年度実施を予定している
H13: 2．実施の予定はない
A14: ５ | B14: 「介護施設等の大規模修繕の際にあわせて行う介護ロボット・ICTの導入支援事業」（地域医療介護総合確保基金、施設整備分）を実施しましたか。 | G14: ① | H14: 令和４年度の実施状況
I15: 1．実施した | O15: 2．実施しなかった
G16: ② | H16: 「2．実施しなかった」を選択した場合、その理由を教えてください。
G17: 理由
A18: 6 | B18: 「介護施設等の大規模修繕の際にあわせて行う介護ロボット・ICTの導入支援事業」（地域医療介護総合確保基金、施設整備分）の実績 | G18: 介護施設等の大規模修繕の際にあわせて行うロボット・センサー・ICTの 導入支援件数・補助額（円、国・都道府県の合計） （１定員あたり42万円：特養、老健、認知症GH、介護付きホームの例） | Y18: 件 | AB18: 千円
A19: 7 | B19: 「介護施設等の大規模修繕の際にあわせて行う介護ロボット・ICTの導入支援事業」（地域医療介護総合確保基金、施設整備分）を来年度実施する予定はありますか。 | H19: 1．来年度実施を予定している
H20: 2．実施の予定はない
A21: １①で「２．実施しなかった」と回答した場合は、Ⅲへお進みください。
A22: 8 | B22: 令和４年度の事業の実施状況について、教えてください。 | G22: 公募開始時期 | N22: （ | P22: ）月（ | S22: ）日から
G23: 公募終了（予定）時期 | N23: （ | P23: ）月（ | S23: ）日まで
G24: ⇒追加募集を行った、または行う予定の場合はその実施状況についても教えてください。
G25: 追加公募開始（予定）時期 | N25: （ | P25: ）月（ | S25: ）日から
G26: 追加公募終了（予定）時期 | N26: （ | P26: ）月（ | S26: ）日まで
A27: 9 | B27: 令和４年度の補助対象それぞれの上限額や補助率などの設定内容とその理由について教えてください。 ※必ず上限額と補助率の両方をご回答ください | G27: 【上限額】国の実施要綱 移乗支援（装着型・非装着型）、入浴支援は、1機器あたり上限100万円、その他は上限30万円 見守りセンサーの導入に伴う通信環境整備：１事業所あたり上限750万円 補助上限台数：必要台数（制限の撤廃） 補助率：一定の要件※を満たす事業所は、３／４を下限に都道府県の裁量により設定 それ以外の事業所は１／２を下限に都道府県の裁量により設定 ※導入計画書において目標とする人員配置を明確にした上で、見守りセンサーやインカム、介護記録ソフト等の複数の機器を 導入し、職員の負担軽減等を図りつつ、人員体制を効率化させる場合
G28: 一定の要件を満たす事業所
G29: 移乗支援 （装着型・非装着型） 入浴支援 | N29: 上限100万円 | T29: 左記以外 | W29: → | X29: （ | AA29: 万円 | AC29: ）
G30: 上限額及び補助率 | N30: ３／４ | R30: 左記以外 | U30: → | V30: （ | Y30: 割 | Z30: ）
N31: 対象無し（事業の実施対象としていない場合はここへチェック）
G32: 上記以外の機器 | N32: 上限30万円 | T32: 左記以外 | W32: → | X32: （ | AA32: 万円 | AC32: ）
G33: 上限額及び補助率 | N33: ３／４ | R33: 左記以外 | U33: → | V33: （ | Y33: 割 | Z33: ）
N34: 対象無し（事業の実施対象としていない場合はここへチェック）
G35: 見守りセンサーの導入に伴う通信環境整備 | N35: 上限750万円 | T35: 左記以外 | W35: → | X35: （ | AA35: 万円 | AC35: ）
G36: 上限額及び補助率 | N36: ３／４ | R36: 左記以外 | U36: → | V36: （ | Y36: 割 | Z36: ）
N37: 対象無し（事業の実施対象としていない場合はここへチェック）
G38: 補助上限台数 | M38: 制限を設けている場合は以下の欄へ具体的に記入ください
G41: 独自の基準 | M41: 上記以外に独自の基準を設けている場合は以下の欄へ具体的に記入ください
G44: 【上記基準の設定理由】（あてはまる全てに☑を入れてください）
H45: 1．国の実施要綱を基に実施しているため | S45: 4．その他 | V45: ↓具体的に | AG45: FALSE
H46: 2．予算が限られているため
H47: 3．他の補助事業と同じ基準にしている
G48: それ以外の事業所
G49: 移乗支援 （装着型・非装着型） 入浴支援 | N49: 上限100万円 | T49: 左記以外 | W49: → | X49: （ | AA49: 万円 | AC49: ）
G50: 上限額及び補助率 | N50: １／２ | R50: 左記以外 | U50: → | V50: （ | Y50: 割 | Z50: ）
N51: 対象無し（事業の実施対象としていない場合はここへチェック）
G52: 上記以外の機器 | N52: 上限30万円 | T52: 左記以外 | W52: → | X52: （ | AA52: 万円 | AC52: ）
G53: 上限額及び補助率 | N53: １／２ | R53: 左記以外 | U53: → | V53: （ | Y53: 割 | Z53: ）
N54: 対象無し（事業の実施対象としていない場合はここへチェック）
G55: 見守りセンサーの導入に伴う通信環境整備 | N55: 上限750万円 | T55: 左記以外 | W55: → | X55: （ | AA55: 万円 | AC55: ）
G56: 上限額及び補助率 | N56: １／２ | R56: 左記以外 | U56: → | V56: （ | Y56: 割 | Z56: ）
N57: 対象無し（事業の実施対象としていない場合はここへチェック）
G58: 補助上限台数 | M58: 制限を設けている場合は以下の欄へ具体的に記入ください
G61: 独自の基準 | M61: 上記以外に独自の基準を設けている場合は以下の欄へ具体的に記入ください
G64: 【上記基準の設定理由】（あてはまる全てに☑を入れてください）
H65: 1．国の実施要綱を基に実施しているため | S65: 4．その他 | V65: ↓具体的に | AG65: FALSE
H66: 2．予算が限られているため
H67: 3．他の補助事業と同じ基準にしている
A68: 10 | B68: 令和４年度の導入支援事業の対象とする分野※を限定していますか。 | H68: 1．支援分野を限定していない
H69: 2．支援分野を限定している
I70: → | J70: 支援対象としている分野を以下より選択してください。（あてはまる全てに☑を入れてください）
J71: また、限定しているのはどのような理由ですか。
B73: ※厚生労働省が経済産業省と共通して定める以下の6分野のこと ①移乗支援 ②移動支援 ③排泄支援 ④見守り・コミュニケーション ⑤入浴支援 ⑥介護業務支援 | J73: ①移乗支援
J74: ②移動支援
J75: ③排泄支援
J76: ④見守り・コミュニケーション
J77: ⑤入浴支援
J78: ⑥介護業務支援
H81: 理由
A82: 11 | B82: 令和４年度（11月末まで）に提出された介護ロボット導入計画はそれぞれ何件ですか。 | G82: 注）件数のカウント方法について【設問11～13共通】 原則、１事業所が同時に計画するものについては、導入機器の数・種類に関わらず１件としてカウントしてください。ただし、以下のような場合は複数件とします。 ①１事業所が、時期をずらして異なる機器の申請を行っている場合 ②１事業所が、機器導入と通信環境整備を分けて計画している場合
B84: ※なお、施設・居住系、在宅系に含まれるサービス種別は枠外の一覧を参照ください。 | G84: 一定の要件を満たす事業所の計画 | S84: 一定の要件を満たす事業所の計画 | AE84: 施設・居住系 | AF84: 在宅系
H85: 施設・居住系の計画件数 | N85: （ | Q85: ）件 | S85: 在宅系の計画件数 | Y85: （ | AB85: ）件 | AE85: 指定介護老人福祉施設（特養） | AF85: 訪問入浴介護
G86: それ以外の事業所の計画 | S86: それ以外の事業所の計画 | AE86: 介護老人保健施設 | AF86: 訪問看護
H87: 施設・居住系の計画件数 | N87: （ | Q87: ）件 | S87: 在宅系の計画件数 | Y87: （ | AB87: ）件 | AE87: 介護療養型医療施設 | AF87: 訪問リハビリテーション
A88: 12－1 | B88: 上記11のうち11月末時点で導入支援事業の対象として交付決定した計画件数はそれぞれ何件ですか。 | G88: 一定の要件を満たす事業所の計画 | S88: 一定の要件を満たす事業所の計画 | AE88: 介護医療院 | AF88: 通所介護
H89: 施設・居住系の計画件数 | N89: （ | Q89: ）件 | S89: 在宅系の計画件数 | Y89: （ | AB89: ）件 | AE89: 特定施設入居者生活介護 | AF89: 通所リハビリテーション
G90: それ以外の事業所の計画 | S90: それ以外の事業所の計画 | AE90: 認知症対応型共同生活介護 | AF90: 短期入所生活介護
H91: 施設・居住系の計画件数 | N91: （ | Q91: ）件 | S91: 在宅系の計画件数 | Y91: （ | AB91: ）件 | AE91: 地域密着型介護老人福祉施設 | AF91: 短期入所療養介護
H92: ※Ⅱ-19の計画件数と同じになるようにしてください | T92: ※Ⅱ-20の計画件数と同じになるようにしてください | AE92: その他 | AF92: 定期巡回・随時対応型訪問介護看護
A93: 12 -2 | B93: 上記12-1で「０」の回答がある場合、「該当なし」または「手続き中」いずれかを選択してください | G93: 一定の要件を満たす事業所の計画 施設・居住系の計画件数 | S93: 一定の要件を満たす事業所の計画 在宅系の計画件数 | AF93: 夜間対応型訪問介護
G94: 12-1が「０件」の理由 | S94: 12-1が「０件」の理由 | AF94: 地域密着型通所介護
H95: 1．該当なし | N95: 2．手続き中 | T95: 1．該当なし | Z95: 2．手続き中 | AF95: 認知症対応型通所介護
G96: それ以外の事業所の計画 施設・居住系の計画件数 | S96: それ以外の事業所の計画 在宅系の計画件数 | AF96: 小規模多機能型居宅介護
G97: 12-1が「０件」の理由 | S97: 12-1が「０件」の理由 | AF97: 複合型サービス（看護小規模多機能型居宅介護）
H98: 1．該当なし | N98: 2．手続き中 | T98: 1．該当なし | Z98: 2．手続き中 | AF98: その他
A100: 13 | B100: 上記12－1の件数は、令和３年度の執行済計画件数全体の実績と比較して変動はありましたか。 | H100: 1．変わらない | N100: 2．増えた | S100: 3．減った
G101: ⇒その理由についても教えてください。（自由記述）
G102: 理由
A103: 14 | B103: 令和4年度（１１月末時点）の応募状況および対応状況について教えてください。 | G103: 【応募状況】
H104: 1．予算額に満たない応募があった（当初予算の90％未満）
H105: 2．当初の予算額とほぼ同額の応募があった（当初予算の90％～110％未満）
H106: 3．当初の予算額を大きく超える応募があった（当初予算の110％以上）
G107: 【対応状況】上記、応募状況を踏まえたその後の対応状況についても教えてください。
H108: 1．当初の予算内で対応できる範囲で採択した
H109: 2．予算を増額して採択した
H110: 3．その他 | L110: （ | AC110: ）
A111: 15 | B111: 令和４年度（１１月末時点）の応募の中で、認められない計画があった場合、どんな理由でしたか。 | H111: 1. | I111: 介護ロボットの技術的３要素（センサー系、知能・制御系、駆動系）を満たしていない
H112: ２．認められなかった計画はない
H113: ３．当初の予算額とほぼ同額の応募があった | I113: その他 | K113: ↓具体的に
...

Sheet 調査票Ⅱローデータ
B1: 問１① | D1: 問１② | E1: 問２ | G1: 問３① | I1: 問３② | J1: 問４ | L1: 問5① | N1: 問5② | O1: 問6 | Q1: 問7 | S1: 問8 | AA1: 問9－一定の要件 | AX1: 問９－理由 | BC1: 問９－それ以外 | BZ1: 問９－理由 | CE1: 問１０ | CN1: 問１１－一定の要件 | CP1: 問１１－それ以外 | CR1: 問１２－１：一定の要件 | CT1: 問１２－１：それ以外 | CV1: 問１２－２：一定の要件 | CZ1: 問１２－２：それ以外 | DD1: 問１3 | DH1: 問１4 | DO1: 問１5 | DS1: 問１6 | DT1: 問１7 | DY1: 問１8 | EF1: 問１9 | EM1: 問20
O2: 件数 | P2: 円 | S2: 開始月 | T2: 開始日 | U2: 終了月 | V2: 終了日 | W2: 追加開始月 | X2: 追加開始日 | Y2: 追加終了月 | Z2: 追加終了日 | AA2: 移乗・入浴 | AH2: 上記以外の機器 | AO2: 見守りセンサ | AV2: 補助上限台数 | AW2: 独自の基準 | AX2: 1．国の実施要綱を基に実施しているため | AY2: 2．予算が限られているため | AZ2: 3．他の補助事業と同じ基準にしている | BA2: 4.その他 | BB2: 理由（その他） | BC2: 移乗・入浴 | BJ2: その他機器 | BQ2: 見守りセンサ | BX2: 補助上限台数 | BY2: 独自の基準 | BZ2: 1．国の実施要綱を基に実施しているため | CA2: 2．予算が限られているため | CB2: 3．他の補助事業と同じ基準にしている | CC2: 4.その他 | CD2: 理由（その他） | CE2: 限定有無（選択） | CG2: ①移乗支援 | CH2: ②移動支援 | CI2: ③排泄支援 | CJ2: ④見守り・コミュニケーション | CK2: ⑤入浴支援 | CL2: ⑥介護業務支援 | CM2: 理由 | CN2: 施設・居住（件数） | CO2: 在宅（件数） | CP2: 施設・居住（件数） | CQ2: 在宅（件数） | CR2: 施設・居住（件数） | CS2: 在宅（件数） | CT2: 施設・居住（件数） | CU2: 在宅（件数） | CV2: 施設・居住（理由） | CX2: 在宅（理由） | CZ2: 施設・居住（理由） | DB2: 在宅（理由） | DD2: 増減（選択） | DG2: 理由 | DH2: 応募（選択） | DK2: 対応（選択） | DN2: 対応（その他） | DO2: 理由（選択） | DR2: 理由（その他） | DS2: 金額 | DT2: 支援（選択） | DW2: 予算金額 | DX2: 支援（記述） | DY2: 1．介護ロボットに関する機器情報 | DZ2: 2．介護ロボットの対象範囲 | EA2: 3．介護ロボットの活用事例 | EB2: 4．展示会や研修会の開催情報 | EC2: 5．介護ロボットに関するヒヤリハット情報 | ED2: 6．その他 | EE2: その他（記述） | EF2: 方針（選択） | EG2: 充実（選択） | EH2: 充実（記述） | EI2: 絞る（選択） | EJ2: 絞る（記述） | EK2: しない（選択） | EL2: しない（記述）
B3: 実施した | C3: 実施していない | E3: 予定ある | F3: 予定なし | G3: 実施した | H3: 実施していない | J3: 予定ある | K3: 予定なし | L3: 実施した | M3: 実施していない | Q3: 予定ある | R3: 予定なし | AA3: 上限100万 | AB3: 左記以外 | AC3: 上限額（金額） | AD3: 補助率３／４ | AE3: 左記以外 | AF3: 補助率（割合） | AG3: 対象なし | AH3: 上限30万円 | AI3: 左記以外 | AJ3: 上限額（金額） | AK3: 補助率３／４ | AL3: 左記以外 | AM3: 補助率（割合） | AN3: 対象なし | AO3: 上限750万円 | AP3: 左記以外 | AQ3: 上限額（金額） | AR3: 補助率３／４ | AS3: 左記以外 | AT3: 補助率（割合） | AU3: 対象なし | BC3: 上限100万 | BD3: 左記以外 | BE3: 上限額（金額） | BF3: 補助率１／２ | BG3: 左記以外 | BH3: 補助率（割合） | BI3: 対象なし | BJ3: 上限30万 | BK3: 左記以外 | BL3: 上限額（金額） | BM3: 補助率１／２ | BN3: 左記以外 | BO3: 補助率（割合） | BP3: 対象なし | BQ3: 上限750万 | BR3: 左記以外 | BS3: 上限額（金額） | BT3: 補助率１／２ | BU3: 左記以外 | BV3: 補助率（割合） | BW3: 対象なし | CE3: 限定している | CF3: 限定していない | CV3: 該当なし | CW3: 手続き中 | CX3: 該当なし | CY3: 手続き中 | CZ3: 該当なし | DA3: 手続き中 | DB3: 該当なし | DC3: 手続き中 | DD3: 変わらない | DE3: 増えた | DF3: 減った | DH3: 0.9 | DI3: ９０～１１０％ | DJ3: 1.1 | DK3: 予算内 | DL3: 増額 | DM3: その他 | DO3: 認められない | DP3: 計画はない | DQ3: その他 | DT3: 介護 | DU3: 上記以外 | DV3: 実施なし | EF3: 同じ | EG3: 充実 | EI3: 絞る | EK3: 実施しない
B4: FALSE | C4: FALSE | D4: ='調査票Ⅱ－1（R4）'!$I$5 -> 0 | E4: FALSE | F4: FALSE | G4: FALSE | H4: FALSE | I4: ='調査票Ⅱ－1（R4）'!$I$11 -> 0 | J4: FALSE | K4: FALSE | L4: FALSE | M4: FALSE | N4: ='調査票Ⅱ－1（R4）'!$I$17 -> 0 | O4: ='調査票Ⅱ－1（R4）'!$W$18 -> 0 | P4: ='調査票Ⅱ－1（R4）'!$Z$18 -> 0 | Q4: FALSE | R4: FALSE | S4: ='調査票Ⅱ－1（R4）'!$O$22 -> 0 | T4: ='調査票Ⅱ－1（R4）'!$R$22 -> 0 | U4: ='調査票Ⅱ－1（R4）'!$O$23 -> 0 | V4: ='調査票Ⅱ－1（R4）'!$R$23 -> 0 | W4: ='調査票Ⅱ－1（R4）'!$O$25 -> 0 | X4: ='調査票Ⅱ－1（R4）'!$R$25 -> 0 | Y4: ='調査票Ⅱ－1（R4）'!$O$26 -> 0 | Z4: ='調査票Ⅱ－1（R4）'!$R$26 -> 0 | AA4: FALSE | AB4: FALSE | AC4: ='調査票Ⅱ－1（R4）'!$Y$29 -> 0 | AD4: FALSE | AE4: FALSE | AF4: ='調査票Ⅱ－1（R4）'!$W$30 -> 0 | AG4: FALSE | AH4: FALSE | AI4: FALSE | AJ4: ='調査票Ⅱ－1（R4）'!$Y$32 -> 0 | AK4: FALSE | AL4: FALSE | AM4: ='調査票Ⅱ－1（R4）'!$W$33 -> 0 | AN4: FALSE | AO4: FALSE | AP4: FALSE | AQ4: ='調査票Ⅱ－1（R4）'!$Y$35 -> 0 | AR4: FALSE | AS4: FALSE | AT4: ='調査票Ⅱ－1（R4）'!$W$36 -> 0 | AU4: FALSE | AV4: ='調査票Ⅱ－1（R4）'!$M$39 -> 0 | AW4: ='調査票Ⅱ－1（R4）'!$M$42 -> 0 | AX4: FALSE | AY4: FALSE | AZ4: FALSE | BA4: FALSE | BB4: ='調査票Ⅱ－1（R4）'!$R$46 -> 0 | BC4: FALSE | BD4: FALSE | BE4: ='調査票Ⅱ－1（R4）'!$Y$49 -> 0 | BF4: FALSE | BG4: FALSE | BH4: ='調査票Ⅱ－1（R4）'!$W$50 -> 0 | BI4: FALSE | BJ4: FALSE | BK4: FALSE | BL4: ='調査票Ⅱ－1（R4）'!Y52 -> 0 | BM4: FALSE | BN4: FALSE | BO4: ='調査票Ⅱ－1（R4）'!W53 -> 0 | BP4: FALSE | BQ4: FALSE | BR4: FALSE | BS4: ='調査票Ⅱ－1（R4）'!Y55 -> 0 | BT4: FALSE | BU4: FALSE | BV4: ='調査票Ⅱ－1（R4）'!W56 -> 0 | BW4: FALSE | BX4: ='調査票Ⅱ－1（R4）'!$M$59 -> 0 | BY4: ='調査票Ⅱ－1（R4）'!$M$62 -> 0 | BZ4: FALSE | CA4: FALSE | CB4: FALSE | CC4: FALSE | CD4: ='調査票Ⅱ－1（R4）'!$R$66 -> 0 | CE4: FALSE | CF4: FALSE | CG4: FALSE | CH4: FALSE | CI4: FALSE | CJ4: FALSE | CK4: FALSE | CL4: FALSE | CM4: ='調査票Ⅱ－1（R4）'!J81 -> 0 | CN4: ='調査票Ⅱ－1（R4）'!$O$85 -> 0 | CO4: ='調査票Ⅱ－1（R4）'!$Z$85 -> 0 | CP4: ='調査票Ⅱ－1（R4）'!$O$87 -> 0 | CQ4: ='調査票Ⅱ－1（R4）'!$Z$87 -> 0 | CR4: ='調査票Ⅱ－1（R4）'!$O$89 -> 0 | CS4: ='調査票Ⅱ－1（R4）'!$Z$89 -> 0 | CT4: ='調査票Ⅱ－1（R4）'!$O$91 -> 0 | CU4: ='調査票Ⅱ－1（R4）'!$Z$91 -> 0 | CV4: FALSE | CW4: FALSE | CX4: FALSE | CY4: FALSE | CZ4: FALSE | DA4: FALSE | DB4: FALSE | DC4: FALSE | DD4: FALSE | DE4: FALSE | DF4: FALSE | DG4: ='調査票Ⅱ－1（R4）'!$I$102 -> 0 | DH4: FALSE | DI4: FALSE | DJ4: FALSE | DK4: FALSE | DL4: FALSE | DM4: FALSE | DN4: ='調査票Ⅱ－1（R4）'!$M$110 -> 0 | DO4: FALSE | DP4: FALSE | DQ4: FALSE | DR4: ='調査票Ⅱ－1（R4）'!$I$114 -> 0 | DS4: ='調査票Ⅱ－1（R4）'!$H$115 -> 0 | DT4: FALSE | DU4: FALSE | DV4: FALSE | DW4: ='調査票Ⅱ－1（R4）'!$Y$116 -> 0 | DX4: ='調査票Ⅱ－1（R4）'!$G$120 -> 0 | DY4: FALSE | DZ4: FALSE | EA4: FALSE | EB4: FALSE | EC4: FALSE | ED4: FALSE | EE4: ='調査票Ⅱ－1（R4）'!$R$123 -> 0 | EF4: FALSE | EG4: FALSE | EH4: ='調査票Ⅱ－1（R4）'!$I$128 -> 0 | EI4: FALSE | EJ4: ='調査票Ⅱ－1（R4）'!$I$131 -> 0 | EK4: FALSE | EL4: ='調査票Ⅱ－1（R4）'!$I$134 -> 0 | EM4: ='調査票Ⅱ－1（R4）'!$G$135 -> 0

Sheet 調査票Ⅱ-２（R4）
A1: Ⅱ． 令和４年度 地域医療介護総合確保基金による「介護ロボット導入支援事業」の実施概況について
A3: 19 | C3: 令和４年度(11月末まで）に採択された導入計画についてご記入ください。 施設・居住系サービスへの導入実績を計画ごとに、事業所名、所在地（市町村）、サービス種別、補助額、補助率、支援分野、導入機種名、メーカー名、導入台数を下の表にご記入ください。
C4: ※支援分野は、①移乗支援、②移動支援、③排泄支援、④見守り、⑤コミュニケーション、⑥入浴支援、⑦介護業務支援、⑧Wi-Fi工事、⑨インカム（親機の件数）、⑩介護記録とのシステム連動 のいずれかの番号を記載してください。 ※１計画で複数機器導入する計画については、全ての機器について記載して下さい。（１計画で複数機器導入する計画については、それぞれの機器を記載する行に同一の計画番号、枝番を振って下さい） また、計画数の合計(最下行の計画番号)は、調査票Ⅳ設問１０における採択件数(施設・居住系サービス、一定の要件を満たす事業所とそれ以外の事業所を合算した件数)と同じになるようにして下さい。
A5: 施設・居住系サービス
A6: 計画番号 | B6: 枝番 | C6: 事業所名 | D6: 所在地 （市町村） | E6: サービス 種別 | F6: その他の場合 | G6: 補助額 （円、国・都道府県の合計） | H6: 補助率 （〇／〇） | I6: 支援 分野※ | J6: 導入機種名 | K6: メーカー名 | L6: 導入台数
F7: 種別名
A8: 1 | B8: 1 | C8: サンプルホームA | D8: A市 | E8: 介護老人保健施設 | G8: 150000 | H8: 1/2 | I8: ④ | J8: 見守りセンサー | K8: B社 | L8: 5 | M8: 台 | N8: ←記入例 | O8: サービス種別
A9: 1 | B9: 2 | C9: サンプルホームA | D9: A市 | E9: 介護老人保健施設 | G9: 1000000 | H9: 1/2 | I9: ⑧ | J9: サンプルWi－Fi | K9: C社 | L9: 1 | M9: 台 | O9: 指定介護老人福祉施設（特養）
A10: 2 | B10: 1 | C10: サンプルホームB | D10: B市 | E10: 介護老人保健施設 | G10: 1000000 | H10: 1/2 | I10: ⑧ | J10: サンプルWi－Fi | K10: C社 | L10: 1 | M10: 台 | O10: 介護老人保健施設
M11: 台 | O11: 介護療養型医療施設
M12: 台 | O12: 介護医療院
M13: 台 | O13: 特定施設入居者生活介護
M14: 台 | O14: 認知症対応型共同生活介護
M15: 台 | O15: 地域密着型介護老人福祉施設
M16: 台 | O16: その他
M17: 台
M18: 台
M19: 台
M20: 台
M21: 台
M22: 台
M23: 台
M24: 台
M25: 台
M26: 台
M27: 台
M28: 台
... M192: 台
M193: 台 | S193: 地域密着型介護老人福祉施設
M194: 台 | S194: その他
M195: 台
M196: 台
M197: 台
M198: 台
M199: 台
M200: 台
M201: 台
M202: 台
M203: 台
M204: 台
M205: 台
M206: 台
... M220: 台

Sheet 調査票Ⅱ-3（R4）
A1: Ⅱ． 令和４年度 地域医療介護総合確保基金による「介護ロボット導入支援事業」の実施概況について
A3: 20 | C3: 令和４年度(11月末まで）に採択された導入計画についてご記入ください。 在宅系サービスへの導入実績を計画ごとに、事業所名、所在地（市町村）、サービス種別、補助額、補助率、支援分野、導入機種名、メーカー名、導入台数を下の表にご記入ください。
C4: ※支援分野は、①移乗支援、②移動支援、③排泄支援、④見守り、⑤コミュニケーション、⑥入浴支援、⑦介護業務支援、⑧Wi-Fi工事、⑨インカム（親機の件数）、⑩介護記録とのシステム連動 のいずれかの番号を記載してください。 ※１計画で複数機器導入する計画については、全ての機器について記載して下さい。（１計画で複数機器導入する計画については、それぞれの機器を記載する行に同一の計画番号、枝番を振って下さい） また、計画数の合計(最下行の計画番号)は、調査票Ⅳ設問１０における採択件数(在宅系サービス、一定の要件を満たす事業所とそれ以外の事業所を合算した件数)と同じになるようにして下さい。
A5: 在宅系サービス
A6: 計画番号 | B6: 枝番 | C6: 事業所名 | D6: 所在地 （市町村） | E6: サービス 種別 | F6: その他の場合 | G6: 補助額 （円、国・都道府県の合計） | H6: 補助率 （〇／〇） | I6: 支援 分野※ | J6: 導入機種名 | K6: メーカー名 | L6: 導入台数
F7: 種別名
A8: 1 | B8: 1 | C8: サンプルステーションA | D8: A市 | E8: 訪問介護 | G8: 200000 | H8: 1/2 | I8: ① | J8: リフト | K8: B社 | L8: 1 | M8: 台 | N8: ←記入例 | Q8: サービス種別
A9: 1 | B9: 2 | C9: サンプルステーションA | D9: A市 | E9: 訪問介護 | G9: 150000 | H9: 1/2 | I9: ⑦ | J9: ビジネスソフト | K9: C社 | L9: 1 | M9: 台 | Q9: 訪問介護
A10: 2 | B10: 1 | C10: サンプルステーションB | D10: B市 | E10: 訪問介護 | G10: 150000 | H10: 1/2 | I10: ⑦ | J10: ビジネスソフト | K10: C社 | L10: 1 | M10: 台 | Q10: 訪問入浴介護
M11: 台 | Q11: 訪問看護
M12: 台 | Q12: 訪問リハビリテーション
M13: 台 | Q13: 通所介護
M14: 台 | Q14: 通所リハビリテーション
M15: 台 | Q15: 短期入所生活介護
M16: 台 | Q16: 短期入所療養介護
M17: 台 | Q17: 定期巡回・随時対応型訪問介護看護
M18: 台 | Q18: 夜間対応型訪問介護
M19: 台 | Q19: 地域密着型通所介護
M20: 台 | Q20: 認知症対応型通所介護
M21: 台 | Q21: 小規模多機能型居宅介護
M22: 台 | Q22: 複合型サービス（看護小規模多機能型居宅介護）
M23: 台 | Q23: その他
M24: 台
M25: 台
M26: 台
M27: 台
M28: 台
M29: 台
M30: 台
M31: 台
M32: 台
M33: 台
M34: 台
M35: 台
... M220: 台

Sheet 調査票Ⅲ・Ⅳ・Ⅴ
A1: Ⅲ．その他の介護ロボット開発・普及の促進に関する事業について
A2: 1 | B2: 地域医療介護総合確保基金による「介護ロボット導入支援事業」以外に介護ロボット開発・普及の促進に関する事業を実施していますか。
B3: １．実施した | G3: ２．実施していない（令和５年度実施予定がある） | U3: ３．実施していない
A4: 2 | B4: 介護ロボット開発・普及の促進に関する事業の内容等についてお知らせください。 また、管内の区市町村が独自に実施している事業についても、把握している範囲でお知らせください。
A5: （１）開発に関する支援事業について
C6: 令和５年度
A7: 開発 支援1 | C7: 事業名
C8: 予算額 | X8: 千円
C9: 事業内容
C10: 対 象 者
C11: 対象人数 (対象社数)
C12: 実施時期
A13: 開発 支援２ | C13: 事業名
C14: 予算額 | X14: 千円
C15: 事業内容
C16: 対 象 者
C17: 対象人数 (対象社数)
C18: 実施時期
A19: 開発 支援３ | C19: 事業名
C20: 予算額 | X20: 千円
C21: 事業内容
C22: 対 象 者
C23: 対象人数 (対象社数)
C24: 実施時期
A25: 開発 支援４ | C25: 事業名
C26: 予算額 | X26: 千円
C27: 事業内容
C28: 対 象 者
C29: 対象人数 (対象社数)
C30: 実施時期
A32: （２）導入に関する支援事業について
C33: 令和５年度
A34: 導入 支援1 | C34: 事業名
C35: 予算額 | X35: 千円
C36: 事業内容
C37: 対 象 者
C38: 対象人数 (対象社数)
C39: 実施時期
A40: 導入 支援２ | C40: 事業名
C41: 予算額 | X41: 千円
C42: 事業内容
C43: 対 象 者
C44: 対象人数 (対象社数)
C45: 実施時期
A47: （３）普及・啓発に関する支援事業について
C48: 令和3年度 | L48: 令和4年度 | U48: 令和5年度
A49: 普及・啓発 支援1 | C49: 事業名 | L49: 事業名 | U49: 事業名
C50: 執行額 | J50: 千円 | L50: 予算額 | S50: 千円 | U50: 予算額 | AB50: 千円
C51: 事業内容 | L51: 事業内容 | U51: 事業内容
C52: 対 象 者 | L52: 対 象 者 | U52: 対 象 者
C53: 対象人数 (対象社数) | L53: 対象人数 (対象社数) | U53: 対象人数 (対象社数)
C54: 実績 | L54: 実績見込み
A55: 普及・啓発 支援2 | C55: 事業名 | L55: 事業名 | U55: 事業名
C56: 執行額 | J56: 千円 | L56: 予算額 | S56: 千円 | U56: 予算額 | AB56: 千円
C57: 事業内容 | L57: 事業内容 | U57: 事業内容
C58: 対 象 者 | L58: 対 象 者 | U58: 対 象 者
C59: 対象人数 (対象社数) | L59: 対象人数 (対象社数) | U59: 対象人数 (対象社数)
C60: 実績 | L60: 実績見込み
A61: 普及・啓発 支援3 | C61: 事業名 | L61: 事業名 | U61: 事業名
C62: 執行額 | J62: 千円 | L62: 予算額 | S62: 千円 | U62: 予算額 | AB62: 千円
C63: 事業内容 | L63: 事業内容 | U63: 事業内容
C64: 対 象 者 | L64: 対 象 者 | U64: 対 象 者
C65: 対象人数 (対象社数) | L65: 対象人数 (対象社数) | U65: 対象人数 (対象社数)
C66: 実績 | L66: 実績見込み
A68: Ⅳ.その他、介護ロボットに関するイベントや会議等の開催状況について
A69: １ | B69: 令和４年度に管内で開催された（または予定している）介護ロボットの展示等を含むイベントの名称等について、把握している範囲で教えてください。 ※厚生労働省「福祉用具・介護ロボット実用化支援事業」介護ロボット地域フォーラムの開催は除きます。
B70: イベント名称 | J70: 開催日 | M70: 開催場所 (市町村) | P70: 主催者 | T70: 来場者 | W70: 出展者数 | Z70: 運営費に対する公的資金の 投入有無
A71: ① | AA71: １．有
V72: 人 | Y72: 社 | AA72: ２．無
A73: ② | AA73: １．有
V74: 人 | Y74: 社 | AA74: ２．無
A75: ③ | AA75: １．有
V76: 人 | Y76: 社 | AA76: ２．無
A77: ④ | AA77: １．有
V78: 人 | Y78: 社 | AA78: ２．無
A79: ⑤ | AA79: １．有
V80: 人 | Y80: 社 | AA80: ２．無
A81: ⑥ | AA81: １．有
V82: 人 | Y82: 社 | AA82: ２．無
A83: ２ | B83: 管内において、介護ロボット等の介護機器の開発に向けた、介護現場と開発企業による意見交換の場はありますか。把握している範囲で教えてください。
B84: ※厚生労働省委託事業における「介護ロボットの開発・実証・普及のプラットフォーム」にかかる事業は除きます。
B85: 会議体の名称 | J85: 事務局 | P85: 開催頻度 | S85: 介護現場 | W85: 開発企業 | Z85: その他
J86: （団体・組織名） | P86: （月1回程度など） | S86: 参加施設・事業者数 | W86: 参加企業数 | Z86: 教育機関・自治体など
A87: ① | V87: 件 | Y87: 社 | AC87: 件
A88: ② | V88: 件 | Y88: 社 | AC88: 件
A90: Ⅴ． 地域医療介護総合確保基金による令和４年度「介護事業所に対する業務改善支援」の実施概況について
A91: 1 | B91: 「介護事業所に対する業務改善支援」事業を実施しましたか。 | G91: 令和４年度の実施状況
I92: 1．実施した | O92: 2．実施しなかった
A93: 2 | B93: 上記１で「１．実施した」と回答した場合、その実績について教えてください。 | G93: 支援内容 | W93: 件数 | Z93: 補助額
G94: ① | H94: 第三者による生産性向上の取組の支援 ・ガイドラインに基づき、職場環境の改善等に係る支援について知識・経験を有する第三者が、対象となる介護事業所において実地による個別支援を実施する。 ・1事業所あたり対象経費の１／２以内（上限30万円） | Y94: 件 | AB94: 千円
G95: ② | H95: 介護現場革新会議に係る支援：介護現場革新会議の開催 ・都道府県又は市町村において、管内の介護関係団体や有識者等と「介護現場革新会議」を開催し、地域における介護現場の課題に即した対応方針を策定する ・介護現場革新会議の開催に伴う必要な経費（会場借り上げ費用及び委員の旅費・謝金） | Y95: 件 | AB95: 千円
G96: ③ | H96: 介護現場革新会議に係る支援：地域のモデル施設の育成 ・業務改善に取組むモデル施設を選定し、その取組に必要な支援を実施する ・1事業所あたり対象経費の１／２以内（上限500万円） | Y96: 件 | AB96: 千円
G97: ④ | H97: 介護現場革新会議に係る支援：介護業界のイメージ改善、その他 ・中高生等に対する介護職の魅力発信等による新規介護人材の確保や、介護職員の永年勤続表彰等の介護人材の定着支援を実施する ・介護助手の活用支援や外国人人材の活用など、業務改善や人材確保に資する支援を実施する ・介護業界のイメージ改善及びその他に関する事業を実施するための必要な経費（会場設営費や有識者への旅費・謝金等）
H98: 実施事業名 | Z98: 補助額
AB99: 千円
AB100: 千円
AB101: 千円
A103: ご協力いただきありがとうございました。

Sheet 調査票Ⅴ～ローデータ
B1: Ⅲ問１ | E1: Ⅳ問１-1 | G1: Ⅳ問１-2 | I1: Ⅳ問１-3 | K1: Ⅳ問１-4 | M1: Ⅳ問１-5 | O1: Ⅳ問１-6 | Q1: Ⅴ問１
B2: 実施した | C2: R5予定 | D2: 実施していない | E2: ある | F2: なし | G2: ある | H2: なし | I2: ある | J2: なし | K2: ある | L2: なし | M2: ある | N2: なし | O2: ある | P2: なし | Q2: 実施した | R2: 実施しなかった
B3: FALSE | C3: FALSE | D3: FALSE | E3: FALSE | F3: FALSE | G3: FALSE | H3: FALSE | I3: FALSE | J3: FALSE | K3: FALSE | L3: FALSE | M3: FALSE | N3: FALSE | O3: FALSE | P3: FALSE | Q3: FALSE | R3: FALSE
